Workbook

Sheet MAPA DE RIESGO 2024
F1: INSTITUTO DISTRITAL DE DEPORTE Y RECREACIÓN - IDER
F2: Proceso: | H2: Planeación Institucional
F3: Documento: | H3: Formato Mapa de Riesgo de Corrupción
F4: Fecha de Aprobación | H4: 44917
A5: Entidad: INSTITUTO DISTRITAL DE DEPORTE Y RECREACIÓN - IDER
A6: IDENTIFICACIÒN DE RIESGO | F6: VALORACIÒN DEL RIESGO DE CORRUPCCIÒN | P6: MONITOREO Y REVISIÒN
A7: No. | B7: PROCESO | C7: CAUSA | D7: RIESGO | E7: CONSECUENCIA | F7: ANALISIS DEL RIESGO | I7: VALORACIÒN DEL RIESGO | P7: FECHA | Q7: ACCIONES | R7: RESPONSABLE | S7: INDICADOR | T7: (ENERO-MARZO) | U7: (% AVANCE ENERO-MARZO) | V7: (ABRIL-JUNIO) | W7: (% AVANCE ENERO-JUNIO ) | X7: (JULIO-SEPTIEMBRE) | Y7: (% AVANCE ENERO-SEPTIEMBRE) | Z7: (OCTUBRE- DICIEMBRE) | AA7: (% AVANCE OCTUBRE-DICIMEBRE)
F8: RIESGO INHERENTE | I8: CONTROLES | J8: RIESGO RESIDUAL | M8: ACCIONES ASOCIADAS
F9: PROBABILIDAD | G9: IMPACTO | H9: ZONA DE RIESGO | J9: PROBABILIDAD | K9: IMPACTO | L9: ZONA DE RIESGO | M9: PERIODO DE EJECUCIÒN | N9: ACCIONES | O9: REGISTRO
A10: 1 | B10: Direccionamiento Estrategico | C10: Tergiversar la información, maquillaje de cifras y datos Rapidez en la entrega de la información No verificación en la entrega a los diferentes entes de control No se valida la información ni la calidad de esta | D10: Brindar información errónea | E10: Incumplimiento metas, objetivos, calidad, transparencia en la información y en los procesos del instituto | F10: Probable | G10: Mayor | H10: Alta | I10: Reportes trimestrales de acuerdo a la ley de transparencia. Publicación de la información en el portal web Divulgación de la gestión a través de la Rendición de Cuentas Entrega de información a los diferentes órganos de control validada y revisada por los líderes de procesos, por planeación, y diferentes áreas de apoyo a lo misional. Integralidad del MIPG con MECI Calidad | J10: Improbable | K10: Moderado | L10: Baja | M10: Trimestral | N10: Diseñar e implementar procedimientos para la revisión y verificación de la información de manera eficaz, a través de la integración entre MIPG con MECI Calidad.,Socialización de los procedimientos y acompañamiento a los líderes en la fase I de implementación. | O10: listados de asistencia, registro fotogràfico | P10: 28/04/2024-31/07/2024-31/10/2024-31/12/2024 | Q10: Realizar 4 socializaciones del Manual de Procesos y Procedimientos del Instituto | R10: Dirección | S10: 1. Número de socializaciones del Manual de Procesos y Procedimientos versiòn 2.0 Realizada / Total socializaciones del Manual de Procesos y Procedimientos versiòn 2.0 Programadas | T10: Se realizó capacitación de la pólítica de gestión de riesgos en las áreas asi como también se realizó la del Manual de Procesos y Procedimientos : Recreación, deportes y dirección administrativa y financiera. Se cuenta con registro de asistencia como evidencia de las acciones realizadas. | U10: 0.25 | V10: Se realizó capacitación de la pólítica de gestión de riesgos en las áreas asi como también se realizó la del Manual de Procesos y Procedimientos :Contabilidad, Presupuesto, Juridica y Espectaculos Publicos Se cuenta con registro de asistencia como evidencia de las acciones realizadas. | W10: =U10+25% -> 0.5 | X10: Se realizó por parte de la Oficina de Talento Humano la inducción a los nuevos funcionarios | Y10: =(W10+25%) -> 0.75 | Z10: Se realizó por parte de la Oficina de Talento Humano la inducción a los nuevos funcionarios | AA10: =(Y10+25%) -> 1
A12: 2 | B12: Direccionamiento Estrategico | C12: Falta de los procedimientos internos para la gestión documental y archivo. Definición de responsables y apoyos tecnológicos para la gestión documental y archivo. Personas a cargo de almacenar esta información sean cambiantes en el cargo y no esté definido un procedimiento de entrega al terminar la gestión. | D12: Daño o pérdida de la información | E12: Falta de soportes y evidencias para la toma de decisiones. Evidencias insuficientes de las acciones importantes adelantadas en todos los ámbitos de la gestión, recursos financieros, contratación. | F12: Posible | G12: Catastrofico | H12: Extremo | I12: Definición de los procedimientos, capacitaciones en gestión documental y archivo, auditorías de estos procesos. | J12: Improbable | K12: Catastrofico | L12: Alta | M12: Permanente | N12: Definir responsable de la gestión documental y archivo, así como el responsable del acompañamiento tecnológico,Diseñar e implementar procedimiento de gestión documental y archivo, incluyendo el proceso de entrega de la información,Socializar el procedimiento y los formatos definidos, y acompañar en la fase I de implementación de éstos., Realizar back-ups de manera periódica para asegurar el archivo. | O12: Lisatados de asistencia , registro fotogràfico, Formato Copias de Seguridad de las dependencias | P12: 28/04/2024-31/07/2024-31/10/2024-31/12/2024 | Q12: Realizar 4 socilizaciones del Procesos y Procedimientos de la Gestiòn Dcumental y sus formatos | R12: Dirección | S12: 1. Número de socializaciones de procedimiento y formatos de Gestiòn Dcumental / Total de procedimiento y formatos definidos en la Gestiòn Dcumental | T12: Se realizó capacitación de la pólítica de gestión de riesgos en las áreas asi como también se realizó la del Manual de Procesos y Procedimientos : Recreación, deportes y dirección administrativa y financiera. Se cuenta con registro de asistencia como evidencia de las acciones realizadas. De igual manera se realizó inducción a los nuevos funcionarios en materia de archivo y gestión documental | U12: 0.25 | V12: Se realizó capacitación de la Pólítica de Gestión del Riesgos en las áreas asi como también se realizó la del Manual de Procesos y Procedimientos :Contabilidad, Presupuesto, Juridica y Espectaculos Públicos Se cuenta con registro de asistencia como evidencia de las acciones realizadas. | W12: =U12+25% -> 0.5 | X12: Se realizó en el Complejo de Raquetas la capacitación por parte de la Oficina de archivo, | Y12: =(W12+25%) -> 0.75 | Z12: Se realizó en el Complejo de Raquetas la capacitación por parte de la Oficina de Archivo, | AA12: =(Y12+25%) -> 1
A16: 3 | B16: Direccionamiento Estrategico | C16: Temas políticos Mecanismos de validación ineficientes Falta de control en la toma de las decisiones | D16: Tráfico de influencias | E16: Sanciones diciplinarias Multas | F16: Posible | G16: Mayor | H16: Alta | I16: Excelente proceso de contratacion del personal Definición de comites asesores con responsabilidades y funciones específicas para la toma de decisiones | J16: Improbale | K16: Mayor | L16: Moderado | M16: Permanente | N16: Socialización constante del Código de integrdidad del IDER a los tomadores de decisiones,Manual de Funciones y Competencias Laborales del IDER | O16: Listados de asistencias, registro fotogràfico | P16: 28/04/2024-31/07/2024-31/10/2024-31/12/2024 | Q16: Realizar 6 socializaciònes del Còdigo de integridad (1 general y 5 con cada uno de los valores dirigidos a funcionarios y contratistas del IDER) | R16: Dirección | S16: 1. Número de socializaciones realizadas del Código de integridad del IDER / Total de socializaciones del Código de integridad del IDER Programadas. | T16: Se realizó capacitación de la pólítica de gestión de riesgos en las áreas asi como también se realizó la del Manual de Procesos y Procedimientos : Recreación, deportes y dirección administrativa y financiera. Se cuenta con registro de asistencia como evidencia de las acciones realizadas. De igual manera se realizo induccion a los nuevos funcionarios en donde se socializó el Código de Integridad. | U16: 0.17 | V16: Se realizó inducción a los nuevos funcionarios en donde se socializó el Código de Integridad. | W16: =U16+13% -> 0.3 | X16: Se realizó la Feria de Valores en la entidad donde se fortaleció el conocimiento del Código de integridad. Se realizaron actividades en las cuales participaron funcionarios y contratistas, la evidencia se encuentra en la página web del IDER: | Y16: =(W16+45%) -> 0.75 | Z16: Se realizó la Feria de Valores en la entidad donde se fortaleció el conocimiento del Código de Integridad. Se realizaron actividades en las cuales participaron funcionarios y contratistas, la evidencia se encuentra en la página web del IDER | AA16: 1
A18: 4 | B18: Planeación Institucional | C18: No se cumplen con las metas establecidas en la planificación para un periodo. | D18: Posibilidad de Recibir dinero o dádiva para alterar la información que se reporta, cambiando los resultados de la gestión, con el fin de beneficiar los resultados obtenidos a nombre propio o de tercero. | E18: Hallazgos de los entes de Control. Desinformación de los usuarios. Inconsistencias en los informes presentados. | F18: Posible | G18: Mayor | H18: Alta | I18: Realizar la verificación de la información enviada por los funcionarios que desarrollan los programas y proyectos y la información socializada en la Rendición de Cuentas. | J18: Improbable | K18: Mayor | L18: Moderado | M18: Permanente | N18: Coherencia entre los reportes de Seguimiento al Plan de Acción con la Rendición de Cuenta. | O18: Formato de seguimiento de Plan de Acción , Informe de Gestión | P18: 28/04/2024-31/07/2024-31/10/2024-31/12/2024 | Q18: Realizar 12 seguimiento del Plan de Acciòn asì como 4 Informes de Gestiòn | R18: Oficina Asesora de Planeación | S18: 1. Número de informes realizados / Total de informes programados | T18: La Oficina Asesora de Planeación, realiza seguimiento mensual a las metas del plan de acción del instituto y realiza informe trimestral de este. Como evidencia de esta acción se encuentran publicados los seguimientos trimestrales al plan de acción en la pagina del instituto en la pestaña correspondiente a transparencia- planeación | U18: 0.25 | V18: La Oficina Asesora de Planeación, realiza seguimiento mensual a las metas del plan de acción del instituto y realizá informe trimestral de este. Como evidencia de esta acción se encuentran publicados los seguimientos trimestrales del plan de acción en la página web del instituto en la pestaña correspondiente a Transparencia- Planeación | W18: =U18+25% -> 0.5 | X18: La Oficina Asesora de Planeación, realiza seguimiento mensual a las metas del plan de acción del instituto y realizá informe trimestral de este. Como evidencia de esta acción se encuentran publicados los seguimientos trimestrales del plan de acción en la página web del instituto en la pestaña correspondiente a Transparencia- Planeación . | Y18: =(W18+25%) -> 0.75 | Z18: Se realizó la Feria de Valores en la entidad donde se fortaleció el conocimiento del Código de Integridad. Se realizaron actividades en las cuales participaron funcionarios y contratistas, la evidencia se encuentra en la página web del IDER | AA18: =(Y18+25%) -> 1
A19: 5 | B19: Gestión de las comunicaciones | C19: Falta de coordinación con las áreas que suministran la información. Entrega demorada u ocultamiento de información relacionada con temas misionales y de interés público. Ausencia de mecanismos de control de revisión, por parte del líder del proceso. Errores en la entrega de la información por parte de la fuente y falta de verificación de la información. Desconocimiento del proceso de comunicación por parte de los servidores públicos y contratistas de la Entidad. | D19: Información errada suministrada al interior de la entidad y a los medios de comunicación | E19: Afectar la imagen y/o reputación del instituto. Observaciones y/o hallazgos en las auditorías internas. Desinformación a la ciudadanía. Posibles investigaciones y/o sanciones por entes de control y entidades competentes. | F19: Posible | G19: Mayor | H19: Alta | I19: Obtención de la información de la Oficina Asesora de Planeación. Reuniones para coordinar las rutas a seguir en cuanto a la publicación de la información.Revisión de toda la información suministrada a la oficina de Comunicaciones para garantizar su correcta difusión. Realizar campañas sobre las herramientas existentes para garantizar una adecuada comunicación.Socializar los formatos para hacer los requerimientos del proceso de comunicaciones para lograr su articulación. | J19: Improbable | K19: Mayor | L19: Moderado | M19: Permanente | N19: Implementar los procedimientos al sistema de información.,Programar con los enlaces de cada área, las reuniones para revisar la información que se publica. Programar con los enlaces de cada área, una reunión y coordinar las actividades que realizan en el mes e informar los canales habilitados para hacer los requerimientos a la oficina de comunicaciones,Realizar un diágnostico sobre las herramientas existentes y conocer la percepción de los funcionarios sobre estas. | O19: Acta de reuniòn, listados de asistencias de los enlaces con las diferentes dependencias del IDER , diagnòsticos | P19: 28/04/2024-31/07/2024-31/10/2024-31/12/2024 | Q19: Realizar 4 mesas de trabajo con los enlaces de cada depemdencia del IDER | R19: Oficina de Comunicaciones y Prensa | S19: 1. Número de mesas de trabajo desarrolladas / Número total de mesas de trabajo programadas | T19: Estas reuniones se realizarán a partir del segundo trimestre de 2024 | U19: 0 | V19: Estas reuniones se realizarán a partir del segundo semestre de 2024 | W19: =U19+0% -> 0 | X19: Se realizaron reuniones con la Dirección Operativa que tiene a cargo las areas de recreación y Deportes, además de reuniones que se realizaron con la Dirección General sobre las diferentes actividades que desarrollamos en los programas de inversión y apoyo a las actividades de la Alcaldia Mayor de Cartagena de Indias. | Y19: =(W19+60%) -> 0.6 | Z19: Se realizaron reuniones con la Dirección Operativa, que tiene a cargo las áreas de recreación y Deportes, además de reuniones que se realizaron con la Dirección General sobre las diferentes actividades que desarrollamos en los programas de inversión y apoyo a las actividades de la Alcaldia Mayor de Cartagena de Indias. así como también se desarrollaron acompañamientos a las actividades de la Oficina de Infraestructura en los escenarios deportivos y recreativos y demás acciones del programa Fortalecimiento de la red de Infraestructura del Distrito de Cartagena de Indias. | AA19: =(Y19+40%) -> 1
A22: 6 | B22: Gestión de las comunicaciones | C22: La información suministrada por las áreas se entrega extemporáneamente. Falta de comunicación entre los procesos interesados en comunicar información. Ausencia de idoneidad del personal que desarrolla las actividades No utilizar los canales de comunicación adecuados de acuerdo al tipo de información. Falta de equipos y software adecuados para la ejecución de las actividades de comunicaciones. Criterios no compartidos por parte de los actores del proceso para la ejecución de las actividades | D22: No comunicar oportunamente los eventos o actividades que realice el Instituto a través de los diferentes canales de comunicación | E22: Afectar la imagen y/o reputación del instituto. Observaciones y/o hallazgos en las auditorías internas. Desinformación a la ciudadanía. Posibles investigaciones y/o sanciones por entes de control y entidades competentes. Desinformación a la ciudadanía respecto a la información de sus trámites y servicios. Demora en las respuestas de los requerimientos asignados a las dependencias. Información tardía y desactualizada a la ciudadanía. | F22: Posible | G22: Moderado | H22: Moderado | I22: Informar los tiempos de respuesta para cada solicitud que realicen a la oficina de comunicaciones. Establecer un cronograma de entrega de información por parte de las áreas pertinentes a la dependencia de comunicaciones para generar los productos requeridos. Socializar los requerimientos del proceso de comunicaciones para lograr su articulación. . | J22: Improbable | K22: Moderado | L22: Baja | M22: Permanente | N22: Implementar los procesos y procedimientos de la Oficina de Comunicaciones, Programar con los enlaces de cada área, una reunión y coordinar las actividades que realizan en el mes e informar los canales habilitados para hacer los requerimientos a la oficina de comunicaciones. | O22: Acta de reuniòn, listados de asistencias de los enlaces con las diferentes dependencias del IDER | P22: 28/04/2024-31/07/2024-31/10/2024-31/12/2024 | Q22: Realizar 4 mesas de trabajo con los enlaces de cada depeNdencia del IDER | R22: Oficina de Comunicaciones y Prensa | S22: 1. Número de mesas de trabajo desarrolladas / Número total de mesas de trabajo programadas | T22: Estas reuniones se realizarán a partir del segundo trimestre de 2024 | U22: 0 | V22: Estas reuniones se realizarán a partir del segundo semestre de 2024 | W22: =U22+0% -> 0 | X22: Se realizaron reuniones con la Dirección Operativa que tiene a cargo las areas de recreación y Deportes, además de reuniones que se realizaron con la Dirección General sobre las diferentes actividades que desarrollamos en los programas de inversión y apoyo a las actividades de la Alcaldia Mayor de Cartagena de Indias. | Y22: =(W22+60%) -> 0.6 | Z22: Se realizaron reuniones con la Dirección Operativa, que tiene a cargo las áreas de recreación y Deportes, además de reuniones que se realizaron con la Dirección General sobre las diferentes actividades que desarrollamos en los programas de inversión y apoyo a las actividades de la Alcaldia Mayor de Cartagena de Indias. así como también se desarrollaron acompañamientos a las actividades de la Oficina de Infraestructura en los escenarios deportivos y recreativos y demás acciones del programa Fortalecimiento de la red de Infraestructura del Distrito de Cartagena de Indias. | AA22: =(Y22+40%) -> 1
A24: 7 | B24: Gestión de las comunicaciones | C24: Falta de continuidad en el ejercicio por cambio de administración. Ausencia de canales efectivos de comunicación con la ciudadanía y al interior de la entidad. Falta de control de los lineamientos establecidos en el manual de comunicaciones a los procesos que están relacionados directamente. Incumplimiento de los objetivos establecidos en el manual de comunicaciones por falta de idoneidad del personal a cargo o por rotación del personal. No incluir la totalidad de los temas de impacto en el plan de comunicaciones. | D24: Incumplimiento a los lineamientos establecidos en el manual de comunicaciones | E24: Observaciones y/o hallazgos en las auditorías internas. Incumplimiento en la implementación de los objetivos de comunicación dirigidos a los públicos internos y externos. Pérdida de credibilidad frente a los públicos internos y externos. Falta de integración en la ejecución y en la toma de decisiones de los procesos comunicativos. Respuesta inoportuna a las solicitudes y consultas de los ciudadanos. Incumplimiento de los objetivos del Manual de Comunicaciones y a las metas estratégicas de la entidad. Afectación a la Imagen y reputación de la entidad. | F24: Posible | G24: Mayor | H24: Alta | I24: Realizar el manual de comunicaciones de la entidad al interior del proceso y a los funcionarios que tenga competencia dentro de la entidad. Realizar el seguimiento para garantizar el cumplimiento de los objetivos establecidos en el manual de comunicaciones (Reuniones con las diferentes subdirecciones y al interior del proceso - Consejos de redacción). | J24: Improbable | K24: Mayor | L24: Alta | M24: Permanente | N24: Cápsulas informativas difundidas en los diferentes canales de comunicación de la entidad y programar reuniones con los enlaces de cada oficina. | O24: Informe de seguimiento del Plan Estratégico de Comunicaciónes, acta y listados de asistencias de los enlaces con las diferentes dependencias del IDER | P24: 28/04/2024-31/07/2024-31/10/2024-31/12/2024 | Q24: Realizar 3 infromes de segumiento al Plan Estrategico de Comunicaciones | R24: Oficina de Comunicaciones y Prensa | S24: 1. Número de informes de seguimiento del Plan Estratégico de Comunicaciones realizados / Número total de informes de seguimiento del Plan Estratégico de Comunicaciones requeridos. | T24: Se realizó informe de seguimiento, el cual se envía a la Oficina de Sistemas para su publicación en el link de transparencia y acceso a la información publica , los primeros días del mes de abril de 2024. | U24: 0 | V24: En el mes de abril fue publicado en la página web del IDER el informe de seguimiento del primer trimestre de 2024 y el informe de seguimiento del segundo trimestre de 2024 fue realizado y será publicado enlos primeros días del mes de julio de 2024 | W24: =U24+50% -> 0.5 | X24: En el mes de julio se público el infome del segundo trimestre y se elaboró el tercer trimestre para ser publicado antes de finalizar la vigencia año 2024. | Y24: =(W24+25%) -> 0.75 | Z24: Se elaboró el seguimiento del cuarto trimestre para ser publicado en el mes de enero de 2025. | AA24: =(Y24+25%) -> 1
A25: 8 | B25: Promoción y Fomento Deportivo | C25: Desconocimiento de los padres del proceso formativo que se sigue con sus hijos. Mecanismos insuficientes para la toma de decisiones. | D25: Trafico de influencias para la inscripcion de niños sin tener en cuenta los niveles de formación | E25: Incumplimiento de objetivos y metas. Pérdida de confianza y credibilidad en la entidad. Intervención de órganos de control. Sanciones. Pérdida de recursos económicos. | F25: Poco probable | G25: Moderado | H25: Baja | I25: Evaluaciones periodicas a los profesores . Capacitación en el proceso a los padres Seguimiento a los proceso | J25: Rara vez | K25: Moderado | L25: Baja | M25: Semestral | N25: Capacitación de los docentes, equipo sicosocial y administrativo de la EIFD,Selección de los niños de acuerdo a los niveles de formación que se tienen en la EIFD | O25: Llistados de asistencias, registro fotográfico | P25: 28/04/2024-31/07/2024-31/10/2024-31/12/2024 | Q25: Realizar 6 capacitaciones a los docentes, equipo sicosocial y administrativo de la EIFD | R25: Deportes | S25: 1. Número de capacitaciones realizadas a los docentes, equipo sicosocial y administrativo de la EIFD / Número total de capacitaciones Programadas para los docentes, equipo sicosocial y administrativo de la EIFD | T25: Para este primer trimestre se inicio con la contratación del equipo de trabajo de la EIFD. Se realizaron reuniones periódicas semanales y mensuales con el equipo Psicosocial, Administrativo y de docentes, para seguimentos y ajustes a los procesos de la EIFD en su primer trimestre. Para el mes de febrero se inicio el período de inscripción a los niveles de inciación, para este primer trimestre.. Se inicio con la apertura de algunos puntos de los núcleos de inciación y formación. | U25: 0.17 | V25: Para este segundo trimestre continuo con la etapa de inscripción a los núcleos de inciación y formación deportiva, el cual estuvo habilitado hasta elmes de junio. Se realizaron reuniones períodicas semanales y mensuales con el equipo Psicosocial, Administrativo y de docentes, para seguimentos y ajustes a los procesos de la EIFD en este segundo trimestre. Se continua con la atención en los núcleos de iniciación y formación deportiva. se encuentra con registro fotográfico. | W25: =U25+15% -> 0.32 | X25: Para este tercer trimestre, el Programa de Escuela de Iniciación y Formación Deportiva presenta un descenso en las cifras, metas y atención en los núcleos de cada nivel de formación; esto considerando la temática y proyección de contratación del personal. Se están estudiando estrategias que reactiven cada uno de estos núcleos y se dé la mayor participación de la población, logrando así superar las metas y garantizar el servicio. Se realizaron reuniones periodicas semanales y mensuales con el equipo de trabajo activos (con contratos vigentes) Psicosocial, Administrativo y de docentes, para seguimentos y ajustes a los procesos. Se da atención a los núcleos activos de iniciacion y formación deportiva. | Y25: 0.4 | Z25: Para este periodo se cierra el proyecto de Escuela de Iniciación y Formación Deportiva -EIFD con un total de 6.762 de nisños, niñas y adolescentes beneficiados. | AA25: =(Y25+60%) -> 1
A28: 9 | B28: Promoción y Fomento Deportivo | C28: Falta de acompañamiento en el proceso de inscripción Mecanismos y procedimientos insuficientes para la verificacion de los requisitos para inscripción | D28: Desconocimiento de los procesos de inscripción a los juegos intercolegiados | E28: Pérdida de confianza y credibilidad en la entidad. Intervención de órganos de control. | F28: Posible | G28: Moderado | H28: Moderado | I28: Verificación en la pagina web del Ministerio del Deporte Verificacion e informe de los inscritos dado por el Ministerio | J28: Rara vez | K28: Moderado | L28: Baja | M28: Mensual | N28: Socializaciones a las instituciones educativas, Acompañamiento a los procesos de inscripción a la instituciones educativas y estudiantes | O28: Llistados de asistencias, registro fotográfico | P28: 28/04/2024-31/07/2024-31/10/2024-31/12/2024 | Q28: Realizar 15 socializaciones a las instituciones educativas del Distrito de Cartagena de Indias | R28: Deportes | S28: 1. Número de socializaciones realizadas a las instituciones educativas del Distrito de Cartagena de Indias / Número Total de socializaciones programadass | T28: Para este primer trimestre, se inició con la contratación del equipo de trabajo del programa Deporte Estudiantil. Se dio inicio a la fase Departamental de los Juegos Intercolegiados vigencia 2023. Se tiene agendada la realización de la Fase Regional (3 / 10 abril en Cartagena) y Nacional Final (16 / 29 abril en Valledupar / Bogotá) de los juegos Intercolegiados vigencia 2023. Los juegos Intercolegiados vigencia 2024 aún no tienen cronograma para su fase distrital. | U28: 0 | V28: Para este segundo trimestre, se realizó la fase Regional y Nacional de los Juegos Intercolegiados vgencia 2023. Se inicia a la fase de inscripción de los Juegos Intercolegiados vigencia 2024. Se realizaron socializaciones e invitaciones a las instituciones educativas para la participación de los juegos. | W28: =U28+25% -> 0.25 | X28: Para este tercer trimestre, se dio inicio a la primera fase de los Juegos Intercolegiados 2024 con relacion al calendario emitido por MINDEPORTE, correspondiente a las competencias municipales, se inicio con la etapa de inscripción e invitacion a las instituciones edcuativas a participar en esta vigencia. Se organiza y realiza la Inaguración de los Juegos Intercolegiados vigencia 2024 en la etapa municipal, dando asi inicio a las competencias de los deportes en conjunto, proyectados hasta el 5 de octubre del 2024 y dar inicio a las competencias de los deportes invidiuales. | Y28: =(W28+40%) -> 0.65 | Z28: Se realizaron los Juegos Intercolegiados beneficiando aproximadamente a 7.166 estudiantes y se contó con la participación de 140 instituciones educativas distritbuidas entre 83 oficiales y 57 no oficiales. | AA28: =(Y28+35%) -> 1
A30: 10 | B30: Promoción y Fomento Deportivo | C30: Mecanismos y procedimientos insuficientes para la verificacion de los requisitos para inscripcion | D30: Omisión para la verificacion de la información que brindan los participantes | E30: Incumplimiento de objetivos y metas. Pérdida de confianza y credibilidad en la entidad. Intervención de órganos de control. Sanciones. Pérdida de recursos económicos. | F30: Probable | G30: Moderado | H30: Moderado | I30: Campañas de capacitación y socializacion de los referentes a las convocatorias | J30: Posible | K30: Moderado | L30: Moderado | M30: Semestral | N30: Socialización de los referentes y requisitos para particpar de las convocatorias | O30: Llistados de asistencias, registro fotográfico | P30: 28/04/2024-31/07/2024-31/10/2024-31/12/2024 | Q30: Realizar 3 socializaciones a los grupos de valor | R30: Deportes | S30: 1. Número de socializaciones realizadas a los grupos de valor / Número Total de socializaciones programadas a los grupos de valor. | T30: Para este período, se han publicado por medio de la página web los referetentes para la participación y acceso a los incentivos para los organismos depòrtivos. | U30: 0 | V30: Para este segundo trimestre, se realizaron varias reuniones con los representantes de Ligas y Clubes Deportivos, donde se socializaron los requisitos para el otorgamiento a los estimulos y/o apoyos. | W30: =U30+25% -> 0.25 | X30: Para este tercer trimestre, se realizó el proceso de adjudicación y entrega de los incentivos y estímulos a los organismos deportivos y deportistas asi mismo se continua con el apoyo a la realización de los eventos de carácter deportivos y recreativos en Cartagena de Indias , como capital del turimo deportivo. | Y30: =(W30+50%) -> 0.75 | Z30: En la vigencia 2024, se realizaron 61 actos administrativos de reconocimiento y estructuración a los organismos deportivos . Los apoyos entregados a través de los diferentes organimos deportivos han beneficiado aproximadamente a 11.445 personas. Se entregaron de enero a diciembre de 2024 diecisiete (17) estímulos a diferentes organismos deportivos Se entregaron diecinueve (19) estímulos a atletas de altos logros a través de resoluciones | AA30: =(Y30+25%) -> 1
A31: 11 | B31: Promoción y Fomento Deportivo | C31: Falta de conocimiento de los reglamento y estatutos | D31: Incumplimiento de los reglamentos y estatutos establecidos | E31: Incumplimiento de objetivos y metas. Pérdida de confianza y credibilidad en la entidad. Intervención de órganos de control. Sanciones. Pérdida de recursos económicos. | F31: Probable | G31: Moderado | H31: Moderado | I31: Campañas de capacitación y socializacion de los reglamento y estatutos referente a las convocatorias | J31: Posible | K31: Moderado | L31: Moderado | M31: Permanente | N31: Capacitación y socialización del reglamaneto y estatutos referentes de la convocatoria | O31: Listados de asistencia , registro fotográfico | P31: 28/04/2024-31/07/2024-31/10/2024-31/12/2024 | Q31: Realizar 3 socializaciones a los grupos de valor | R31: Deportes | S31: 1. Número de socializaciones realizadas a los grupos de valor / Número Total de socializaciones programadas a los grupos de valor. | T31: En la página web, se encuetran los requisitos establecios para los procesos e invitación. para organismos deportivos. | U31: 0 | V31: Para este segundo trimestre, se realizaron varias reuniones con los representantes de Ligas y Clubes Deportivos, donde se socializaron los requisitos para el otorgamiento a los estimulos y/o apoyos. | W31: =U31+25% -> 0.25 | X31: Para este tercer trimestre, se realizó el proceso de adjudicación y entrega de los incentivos y estímulos a los organismos deportivos y deportistas asi mismo se continua con el apoyo a la realización de los eventos de carácter deportivos y recreativos en Cartagena de Indias , como capital del turimo deportivo. | Y31: =(W31+50%) -> 0.75 | Z31: En la vigencia 2024, se realizaron 61 actos administrativos de reconocimiento y estructuración a los organismos deportivos . Los apoyos entregados a través de los diferentes organimos deportivos han beneficiado aproximadamente a 11.445 personas. Se entregaron de enero a diciembre de 2024 diecisiete (17) estímulos a diferentes organismos deportivos Se entregaron diecinueve (19) estímulos a atletas de altos logros a través de resoluciones | AA31: =(Y31+25%) -> 1
A32: 12 | B32: Promoción y Fomento Deportivo | C32: Mecanismos insuficientes para verificar los documentos Premura en la verificacion de los documentos | D32: Falsedad de los documentos presentados | E32: Incumplimiento de objetivos y metas. Pérdida de confianza y credibilidad en la entidad. Intervención de órganos de control. Sanciones. Pérdida de recursos económicos. | F32: Posible | G32: Moderado | H32: Moderado | I32: Verificar los procesos Contar con bases de datos de las ligas | J32: Rara vez | K32: Moderado | L32: Moderado | M32: Semestral | N32: Verificación y revisión de la documentación presentada | O32: Lista de chequeo de los documentos presentados | P32: 28/04/2024-31/07/2024-31/10/2024-31/12/2024 | Q32: Realizar diligencioamiento de la lista de chequeo para la revisiòn y verificaciòn de documentos | R32: Deportes | S32: 1. Número de inspecciones realizadas a través de lista de chequeo para la revisión y verificación de documentos / Número Total de Inspecciones programadas de revisión y verificación de documentos. | T32: Para este segundo trimestre se entegaron estimulos a los siguientes Organimso Deportivos: Liga de Baloncesto Nº Cov. CIAP 01, Liga Sorf Nº Cov. CIAP 02, Liga de Futbol Nº Cov. CIAP 03, Liga Tenis Nº Cov. CIAP 04, Liga de Atletismo Nº Cov. CIAP 05, Liga de VoleibolNº Cov. CIAP 07, Liga de Softbol Nº Cov. CIAP 08, Liga de FutsalaNº Cov. CIAP 09 y Liga de Karate-DO Nº Cov. 359. Se otorgo estimulo a Deportista del Club ASORBOL (Asociacion de Sordos de Bolivar) para la participacion del campeonato Ncional de Municios de Clubes Paralimpicos | U32: 0.25 | V32: Para este segundo trimestre, se entegaron estímulos a los siguientes Organimso Deportivos: Liga de Baloncesto Nº Cov. CIAP 01, Liga Sorf Nº Cov. CIAP 02, Liga de Futbol Nº Cov. CIAP 03, Liga Tenis Nº Cov. CIAP 04, Liga de Atletismo Nº Cov. CIAP 05, Liga de VoleibolNº Cov. CIAP 07, Liga de Softbol Nº Cov. CIAP 08, Liga de FutsalaNº Cov. CIAP 09 y Liga de Karate-DO Nº Cov. 359. Se otorgo estímulo a Deportista del Club ASORBOL (Asociación de Sordos de Bolívar) para la participación del Campeonato Nacional de Municipios de Clubes Paralimpicos. | W32: =U32+25% -> 0.5 | X32: A septiembre de 2024, se entregaron 17 incentivos y estiímulos a organismos deportivos asi como también se entregaron 14 incentivos y estímulos a deportistas , de acuerdo a las resoluciones que reposan en la Oficina Asesora Jurídica | Y32: =(W32+25%) -> 0.75 | Z32: En la vigencia 2024, se realizaron 61 actos administrativos de reconocimiento y estructuración a los organismos deportivos . Los apoyos entregados a través de los diferentes organimos deportivos han beneficiado aproximadamente a 11.445 personas. Se entregaron de enero a diciembre de 2024 diecisiete (17) estímulos a diferentes organismos deportivos Se entregaron diecinueve (19) estímulos a atletas de altos logros a través de resoluciones | AA32: =(Y32+25%) -> 1
A33: 13 | B33: Promoción y Fomento Deportivo | C33: Mecanimos insuficientes para verificar información suministrada | D33: Trafico de influencias para la decision de apoyo de un evento en particular | E33: Incumplimiento de objetivos y metas. Pérdida de confianza y credibilidad en la entidad. Intervención de órganos de control. Sanciones. Pérdida de recursos económicos. | F33: Posible | G33: Moderado | H33: Moderado | I33: Definir criterios de selección Verificacion con los organismos del deporte Crear procedimientos para la escogencia de eventos | J33: Improbable | K33: Moderado | L33: Baja | M33: Mensual | N33: Publicación y socialización de requisitos y referentes para la participación,publicaciòn de criterios de evaluación para organismos deportivos. | O33: Listados de asistencia , piezas comunicacionales, registro fotogràfico | P33: 28/04/2024-31/07/2024-31/10/2024-31/12/2024 | Q33: Realizar 3 publicaciones de criterios de evaluaciòn para los organismos deportivos | R33: Deportes | S33: 1. Número de publicaciones de criterios de evaluación para los organismos deportivos realizadas / Número Total de publicaciones de criterios de evaluación para los organismos deportivos requeridas | T33: Se difundieron por flayer en publicación abierta con los requisitos para la participación de los organismos deportivos. | U33: 0.33 | V33: Para este segundo trimestre se entegaron estimulos a los siguientes Organimso Deportivos: Liga de Baloncesto Nº Cov. CIAP 01, Liga Sorf Nº Cov. CIAP 02, Liga de Futbol Nº Cov. CIAP 03, Liga Tenis Nº Cov. CIAP 04, Liga de Atletismo Nº Cov. CIAP 05, Liga de VoleibolNº Cov. CIAP 07, Liga de Softbol Nº Cov. CIAP 08, Liga de FutsalaNº Cov. CIAP 09 y Liga de Karate-DO Nº Cov. 359. Se otorgo estimulo a Deportista del Club ASORBOL (Asociacion de Sordos de Bolivar) para la participacion del campeonato Ncional de Municios de Clubes Paralimpicos y se difundieron por flayer en publicación abierta los requisitos para la participación de los organismos deportivos en la entrega de incentivos y/o estímulos. | W33: =U33+25% -> 0.58 | X33: A septiembre de 2024, se entregaron 17 incentivos y estiímulos a organismos deportivos asi como también se entregaron 14 incentivos y estímulos a deportistas , de acuerdo a las resoluciones que reposan en la Oficina Asesora Jurídica | Y33: =(W33+32%) -> 0.9 | Z33: En la vigencia 2024, se realizaron 61 actos administrativos de reconocimiento y estructuración a los organismos deportivos . Los apoyos entregados a través de los diferentes organimos deportivos han beneficiado aproximadamente a 11.445 personas. Se entregaron de enero a diciembre de 2024 diecisiete (17) estímulos a diferentes organismos deportivos Se entregaron diecinueve (19) estímulos a atletas de altos logros a través de resoluciones | AA33: 1
A35: 14 | B35: Promocion y Fomento de la actividad fisica y el uso del tiempo libre. | C35: Mecanimos insuficientes para el alamacenamiento de la información suministrada | D35: Uso ilegitimo de la información en los procesos de inscripción. | E35: Pérdida de confianza y credibilidad en la entidad. Intervención de órganos de control. Sanciones. Pérdida de recursos económicos. | F35: Posible | G35: Moderado | H35: Moderado | I35: Definir criterios y procedimientos de inscripcion y selección de participantes | J35: Improbable | K35: Moderado | L35: Baja | M35: Bimensual | N35: Definir mecanismos para la revisión y verificación de los documentos, Implementación de mecanismos para la toma de decisiones. | O35: Lista de chequeo de los documentos presentados y formato de criterios para la toma de decisiones | P35: 28/04/2024-31/07/2024-31/10/2024-31/12/2024 | Q35: Realizar diligenciamiento de la lista de chequeo para la revisiòn y verificaciòn de documentos y formatos de criterios para la toma de desiciones | R35: Recreación | S35: 1. Número de lista de chequeo diligenciadas de revisión y verificación de documentos así como formatos con criterios para la toma de decisiones / Número total de lista de chequeo de revisión y verificación de documentos y formatos con criterios para la toma de decisiones requeridos. | T35: Se implementaron 5 listas de chequeo en los procesos de inscripción de los usuarios y participantes de los eventos(Ficha de inscripción, registro fotográfico, capacitación sobre prácticas adecuadas para manejo de información y consentimientos informados) Como mecanismo para la revisión y verificación de los documentos, el área cuenta con una carpeta DRIVE donde se hace archivo y respaldo de la información de las diferentes listas de chequeos, la cual se actualiza permanentemente | U35: 0.25 | V35: Se implementaron 5 listas de chequeo en los procesos de inscripción de los usuarios y participantes de los eventos(Ficha de inscripción, registro fotográfico, capacitación sobre prácticas adecuadas para manejo de información y consentimientos informados) Como mecanismo para la revisión y verificación de los documentos, el área cuenta con una carpeta DRIVE donde se hace archivo y respaldo de la información de las diferentes listas de chequeos, la cual se actualiza permanentemente. | W35: =U35+25% -> 0.5 | X35: Se implementaron 5 listas de chequeo en los procesos de inscripción de los usuarios y participantes de los eventos(Ficha de inscripción, registro fotográfico, capacitación sobre prácticas adecuadas para manejo de información y consentimientos informados) Como mecanismo para la revisión y verificación de los documentos, el área cuenta con una carpeta DRIVE donde se hace archivo y respaldo de la información de las diferentes listas de chequeos, la cual se actualiza permanentemente. | Y35: =(W35+25%) -> 0.75 | Z35: Se implementaron 5 listas de chequeo en los procesos de inscripción de los usuarios y participantes de los eventos(Ficha de inscripción, registro fotográfico, capacitación sobre prácticas adecuadas para manejo de información y consentimientos informados) Como mecanismo para la revisión y verificación de los documentos, el área cuenta con una carpeta DRIVE donde se hace archivo y respaldo de la información de las diferentes listas de chequeos, la cual se actualiza permanentemente. | AA35: =(Y35+25%) -> 1
A37: 15 | B37: Promocion y Fomento de la actividad fisica y el uso del tiempo libre. | C37: Mecanimos insuficientes para verificar información suministrada Favorecimiento a un tercero | D37: Soborno y tráfico de influencias. | E37: Pérdida de confianza y credibilidad en la entidad. Intervención de órganos de control. Sanciones. Pérdida de recursos económicos. | F37: Posible | G37: Moderado | H37: Moderado | I37: Definir criterios y procedimientos de inscripcion y selección de participantes | J37: Improbable | K37: Moderado | L37: Baja | M37: Bimensual | N37: Definir mecanismos para la revisión y verificación de los documentos,Implementación de mecanismos para la toma de decisiones | O37: Lista de chequeo de los documentos presentados y formato de criterios para la toma de decisiones | P37: 28/04/2024-31/07/2024-31/10/2024-31/12/2024 | Q37: Realizar diligenciamiento de la lista de chequeo para la revisiòn y verificaciòn de documentos y formatos de criterios para la toma de desiciones | R37: Recreación | S37: 1. Número de lista de chequeo diligenciadas de revisión y verificación de documentos así como formatos con criterios para la toma de decisiones / Número total de lista de chequeo de revisión y verificación de documentos y formatos con criterios para la toma de decisiones requeridos. | T37: Se implementaron 5 listas de chequeo en el los procesos de inscripción y selección de participantes (piezas publicitarias, registro fotográfico, fichas de inscripción y actas) Como mecanismo para la revisión y verificación de los documentos, el área cuenta con una carpeta DRIVE donde se hace archivo y respaldo de la información de las diferentes listas de chequeos, la cual se actualiza permanentemente | U37: 0.25 | V37: Se implementaron 5 listas de chequeo en el los procesos de inscripción y selección de participantes (piezas publicitarias, registro fotográfico, fichas de inscripción y actas) Como mecanismo para la revisión y verificación de los documentos, el área cuenta con una carpeta DRIVE donde se hace archivo y respaldo de la información de las diferentes listas de chequeos, la cual se actualiza permanentemente | W37: =U37+25% -> 0.5 | X37: Se implementaron 5 listas de chequeo en el los procesos de inscripción y selección de participantes (piezas publicitarias, registro fotográfico, fichas de inscripción y actas) Como mecanismo para la revisión y verificación de los documentos, el área cuenta con una carpeta DRIVE donde se hace archivo y respaldo de la información de las diferentes listas de chequeos, la cual se actualiza permanentemente | Y37: =(W37+25%) -> 0.75 | Z37: Se implementaron 5 listas de chequeo en el los procesos de inscripción y selección de participantes (piezas publicitarias, registro fotográfico, fichas de inscripción y actas) Como mecanismo para la revisión y verificación de los documentos, el área cuenta con una carpeta DRIVE donde se hace archivo y respaldo de la información de las diferentes listas de chequeos, la cual se actualiza permanentemente | AA37: =(Y37+25%) -> 1
A39: 16 | B39: Promocion y Fomento de la actividad fisica y el uso del tiempo libre. | C39: Mecanimos insuficientes para verificar información suministrada Favorecimiento a un tercero | D39: Privilegiar el tráfico de influencias para la selección de sede para eventos | E39: Pérdida de confianza y credibilidad en la entidad. Intervención de órganos de control. Sanciones. Pérdida de recursos económicos. | F39: Posible | G39: Moderado | H39: Moderado | I39: Definir criterios y procedimientos de inscripcion y selección de participantes | J39: Improbable | K39: Moderado | L39: Baja | M39: Bimensual | N39: Definir mecanismos para la revisión y verificación de los documentos, Implementación de mecanismos para la toma de decisiones. | O39: Lista de chequeo de los documentos presentados y formato de criterios para la toma de decisiones | P39: 28/04/2024-31/07/2024-31/10/2024-31/12/2024 | Q39: Realizar diligencioamiento de la lista de chequeo para la revisiòn y verificaciòn de documentos y formatos de criterios para la toma de desiciones | R39: Recreación | S39: 1. Número de lista de chequeo diligenciadas de revisión y verificación de documentos así como formatos con criterios para la toma de decisiones / Número total de lista de chequeo de revisión y verificación de documentos y formatos con criterios para la toma de decisiones requeridos. | T39: Se implementaron 5 listas de chequeo para la toma de decisiones (divulgación, registro fotografico, mesas de trabajo y actas) Como mecanismo para la revisión y verificación de los documentos, el área cuenta con una carpeta DRIVE donde se hace archivo y respaldo de la información de las diferentes listas de chequeos, la cual se actualiza permanentemente | U39: 0.25 | V39: Se implementaron 5 listas de chequeo para la toma de decisiones (divulgación, registro fotográfico, mesas de trabajo y actas) Como mecanismo para la revisión y verificación de los documentos, el área cuenta con una carpeta DRIVE donde se hace archivo y respaldo de la información de las diferentes listas de chequeos, la cual se actualiza permanentemente | W39: 0.5 | X39: Se implementaron 5 listas de chequeo para la toma de decisiones (divulgación, registro fotográfico, mesas de trabajo y actas) Como mecanismo para la revisión y verificación de los documentos, el área cuenta con una carpeta DRIVE donde se hace archivo y respaldo de la información de las diferentes listas de chequeos, la cual se actualiza permanentemente | Y39: =(W39+25%) -> 0.75 | Z39: Se implementaron 5 listas de chequeo para la toma de decisiones (divulgación, registro fotográfico, mesas de trabajo y actas) Como mecanismo para la revisión y verificación de los documentos, el área cuenta con una carpeta DRIVE donde se hace archivo y respaldo de la información de las diferentes listas de chequeos, la cual se actualiza permanentemente | AA39: =(Y39+25%) -> 1
A41: 17 | B41: Promocion y Fomento de la actividad fisica y el uso del tiempo libre. | C41: Mecanimos insuficientes para el alamacenamiento de la información suministrada | D41: Uso ilegitimo de la información en los procesos de seguimiento y evaluación. | E41: Pérdida de confianza y credibilidad en la entidad. Intervención de órganos de control. Sanciones. Pérdida de recursos económicos. | F41: Probable | G41: Moderado | H41: Moderado | I41: Definir criterios y procedimientos de inscripcion y selección de participantes | J41: Improbable | K41: Moderado | L41: Baja | M41: Bimensual | N41: Implementación de mecanismos para la toma de decisiones | O41: Formato de criterios para la toma de decisiones | P41: 28/04/2024-31/07/2024-31/10/2024-31/12/2024 | Q41: Realizar diligenciamiento de los formatos de criterios para la toma de desiciones | R41: Recreación | S41: 1. Número de formatos con criterios para la toma de decisiones diligenciados / Número total de formatos con criterios para la toma de decisiones requeridos. | T41: Implementación de dos (2) procesos de convocatorias abiertas al público para semillero de Actividad Física y Recreación Comunitaria. ( se realizarán en abril ambas convocatorias) | U41: 0.25 | V41: Implementación de dos (2) procesos de convocatorias abiertas al público para semillero de Actividad Física y Recreación Comunitaria. ( se realizarán en abril ambas convocatorias) | W41: 0.25 | X41: Implementación de dos (2) procesos de convocatorias abiertas al público para semillero de Actividad Física y Recreación Comunitaria. | Y41: =(W41+U41+25%) -> 0.75 | Z41: Implementación de dos (2) procesos de convocatorias abiertas al público para semillero de Actividad Física y Recreación Comunitaria. | AA41: =(Y41+25%) -> 1
T42: Se implementaron las 4 listas de chequeo, según los criterios para la toma de decisiones. (mesas de trabajo, actas, formularios de inscripción, registros fotográficos y número de inscritos seleccionados que cumplieron ) | V42: Se implementaron las 4 listas de chequeo, según los criterios para la toma de decisiones. (mesas de trabajo, actas, formularios de inscripción, registros fotográficos y número de inscritos seleccionados que cumplieron ) | X42: Se implementaron las 4 listas de chequeo, según los criterios para la toma de decisiones. (mesas de trabajo, actas, formularios de inscripción, registros fotográficos y número de inscritos seleccionados que cumplieron ) | Z42: Se implementaron las 4 listas de chequeo, según los criterios para la toma de decisiones. (mesas de trabajo, actas, formularios de inscripción, registros fotográficos y número de inscritos seleccionados que cumplieron )
A43: 18 | B43: Gestion de Infraestructura | C43: Favorecimiento a un tercero | D43: Priorizacion erronea de escenarios que no se encuentran contenidos en la ruta de trabajo. | E43: Desviación recursos | F43: Poco problable | G43: Moderado | H43: Baja | I43: Creación del documento dignóstico o ruta diagnósstica y fichas de los escenarios deportivos | J43: Rara vez | K43: Moderado | L43: Baja | M43: Permanente | N43: Control, monitoreo y seguimiento al Plan. | O43: Formato de seguimiento del plan | P43: 28/04/2024-31/07/2024-31/10/2024-31/12/2024 | Q43: Realizar mesualmente seguimiento al plan | R43: Infraestructura | S43: 1. Número de seguimiento al plan realizado / Número total de seguimiento al plan programados. | T43: En el marco del diagnóstico realizado a las 410 unidades deportivas del Distrito de Cartagena, se encontró 47 en muy mal estado, 70 en mal estado, 116 en estado regular y 117 en buen estado, tras lo que se crea la ruta de rescate de escenarios deportivos, proyectada por el área de Infraestructura del IDER, cuyo interés es poder acceder a los MPR (mantenimiento preventivo recurrente) y abarcar mayor número de ellos. Como evidencia reposa en la Oficina Asesora de Planeación informes enviados por el área de infraestructura | U43: 0.25 | V43: Durante este perído y de acuerdo a los resultados obtenidos en el Plan de acción a corte 31 de mayo de 2024 , se realizaron 368 mantenimientos preventivos recurrentes.Como evidencia reposa en la Oficina Asesora de Planeación informes enviados por el área de infraestructura | W43: =U43+25% -> 0.5 | X43: Se cumplio al 100% la meta del indicador de mantenimineto, mejoramiento y adecuación de escenarios deportivos de acuerdo a lo reportado en los informes por la Oficina Infraestructura . | Y43: =(W43+25%) -> 0.75 | Z43: Se cumplió al 100% la meta del indicador de mantenimiento, mejoramiento y adecuación de 368 escenarios deportivos de acuerdo a lo reportado en los informes por la Oficina Infraestructura. | AA43: =(Y43+25%) -> 1
A44: 19 | B44: Gestion de Infraestructura | C44: Poca planeación | D44: Obras no entregadas como fueron planeadas y presupuestadas. | E44: Afectacion a la comunidad por el no goce de escenarios deportivos en optimas condiciones. | F44: Poco problable | G44: Moderado | H44: Baja | I44: Controles tecnicos (presupesto, diseño, cantidades, formato de medicion, formato de liberacion de obra) desde la planeación hasta la ejecucion del proyecto. | J44: Rara vez | K44: Moderado | L44: Baja | M44: Permanente | N44: Control, monitoreo y seguimiento a la ejecución de los Proyectos. | O44: Acta de reunión , registro fotograficos ,listado de asistencia, informes | P44: 28/04/2024-31/07/2024-31/10/2024-31/12/2024 | Q44: Realizar informes de segumiento a las obras o proyectos | R44: Infraestructura | S44: 1. Número de seguimiento a las obras y proyectos realizado / Número total de seguimiento a las obras y proyectos programados. | T44: El informe enviado a la Oficina Asesora de Planeación con el fin de hacer seguimiento a los indicadores de gestión , el convenio establecido con EDURBE con respecto al Estadio Jaime Morón se encuentra en un avance del 25% , se evidencia a través del informe y los registro fotográficos. | U44: 0.25 | V44: El informe enviado a la Oficina Asesora de Planeación con el fin de hacer seguimiento a los indicadores de gestión , el convenio establecido con EDURBE con respecto al Estadio Jaime Morón se encuentra en un avance al mes de mayo del 85,96 %, se evidencia a través del informe y los registro fotográficos. | W44: =U44+25% -> 0.5 | X44: Las obras de mejoramiento de la infraestructura deportiva y recreativa del Coliseo cubierto Bernardo Caraballo se llevaron a cabo en un 100% ,con respecto al las obras de mejoramiento de la Villa Olimpica se encuentran en el siguiente avance : Estadio de Fútbol,Jaime Morón, se encuentra en un 96,63%, Plaza de Toros tiene un 51,88% de avance, Pista de Atletismo Campo Elías Guitiérrez se encuentra en 21,84% de avance, Complejo Acuático Jaime Gónzalez Jhonson a septiembre tuvo un avance de 27,39%, | Y44: =(W44+25%) -> 0.75 | Z44: Las obras de mejoramiento de la infraestructura deportiva y recreativa del Coliseo cubierto Bernardo Caraballo se llevaron a cabo en un 100% ,con respecto al las obras de mejoramiento de la Villa Olimpica fue de un 100% asi como las obras de reconstrucción de algunos aspectos de la infraestructura de la cancha sintética del barrio Los Calamares presentando un avance del 60% como también se desarrolló obras de matenimiento y reconstrucción deportiva y recreativa de la zona deportiva de Manga (Parque H L Román) y el Parque General Lacides Segovia, se encuentra en un avance del 74%. | AA44: =(Y44+25%) -> 1
A45: 20 | B45: Gestión Documental | C45: Baja implementación de buenas practicas de gestión documental por parte del personal encargado de los archivos de gestión al interior de cada oficina. | D45: Afectación a los a los pilares de integridad, disponibilidad, autenticidad y confidencialidad de la información. Incumplimiento técnico en los procesos archivisticos de organización, depuración, foliación, rotulación, inventario y disposición final. | E45: Disminución de la efectividad de los funcionarios Apertura de procesos disciplinarios, administrativos y legales a servidores públicos Pérdida de confianza y credibilidad en la entidad Intervención de órganos de control Sanciones | F45: Moderado | G45: Mayor | H45: Alta | I45: Realizar programa de capacitación y visitas de seguimiento y control a los archivos de gestión para verificar la aplicación de la Ley de Archivos (Ley 594 de 2000). | J45: Improbable | K45: Moderado | L45: Moderado | M45: Trimestral | N45: Control y monitoreo respecto a la aplicación de buenas prácticas de gestión documental por parte de los responsables de los archivos de gestion | O45: Visitas Técnicas , informes y registrto fotográfico | P45: 28/04/2024-31/07/2024-31/10/2024-31/12/2024 | Q45: Realizar 16 informes sobre las visitas tècnicas a los responsables de los archivos de gestiòn de cada dependecia | R45: Archivo y Gestión Documental | S45: 1. Número de informes realizados / Número total de informes requeridos. | T45: El primer trimestre se realizó diagnóstico y cronograma con el fin de dar inicio en el segundo trimestre | U45: 0 | V45: Se realizarán las visitas e infromes en el segundo semestre de 2024 | W45: =U45+13% -> 0.13 | X45: Para este trimestre, se avanzó en la gestión y seguimiento de la convalidación de las Tablas de Retención Documental – TRD del Instituto Distrital de Deportes y Recreación - IDER. | Y45: =(W45+32%) -> 0.45 | Z45: Para este trimestre, se avanzó en la gestión y seguimiento de la convalidación de las Tablas de Retención Documental – TRD del Instituto Distrital de Deportes y Recreación - IDER. | AA45: =(Y45+32%) -> 0.77
A46: 21 | B46: Gestión Documental | C46: Infraestructura física y tecnologica limitada para la optima disposición y consulta de los documentos del Instituto. | D46: Inadecuada disposición final de los documentos de archivo | E46: Desorden documental en los archivos de gestión y central, inadecuada dispocision final y generación de fondos acumulados | F46: Posible | G46: Moderado | H46: Moderado | I46: Desarrollar programas y proyectos de inversión que viabilicen la optimización y/o ampliación de la infraestructura física disponible para el resguardo de la documentación del IDER | J46: Improbable | K46: Moderado | L46: Baja | M46: Trimestral | N46: Organización y adecuada disposición final de los documentos en los espacios habilitados para tal fin | O46: Registrto fotográfico, verificación del FUID | P46: 28/04/2024-31/07/2024-31/10/2024-31/12/2024 | Q46: Verificaciòn del FUID | R46: Archivo y Gestión Documental | S46: 1. Número de verificaciones del FUID realizada / Número total de verificaciones del FUID requeridas. | T46: El primer trimestre se realizó diagnóstico y cronograma con el fin de dar inicio en el segundo trimestre | U46: 0 | V46: Se han realizado cinco (5) de verificaciones del FUID en este trimestre. | W46: =U46+25% -> 0.25 | X46: Durante este periodo, se avanzó en la ejecución del Plan de Capacitación Institucional en Gestión Documental, brindando asistencia técnica y capacitación a cuatro oficinas productoras del Instituto. Además, se preparó material de capacitación sobre archivos electrónicos para todo el Instituto Distrital de Deportes y Recreación - IDER. | Y46: =((W46+35%)) -> 0.6 | Z46: Durante este periodo, se avanzó en la ejecución del Plan de Capacitación Institucional en Gestión Documental, brindando asistencia técnica y capacitación a cuatro oficinas productoras del Instituto. Además, se preparó material de capacitación sobre archivos electrónicos para todo el Instituto Distrital de Deportes y Recreación - IDER. | AA46: =((Y46+35%)) -> 0.95
A47: 22 | B47: Gestion de bienes y servicios | C47: Por apropiación por parte de la comunidad de espacios que son publicos. | D47: Trafico de influencias -cobro por utilizacion de escenarios deportivos publicos por terceras personas. | E47: Afectación a la ciudadania en general por el no goce de escenarios deportivos gratuitos. | F47: Posible | G47: Moderado | H47: Moderado | I47: Campañas permanentes sobre el uso gratuito de los escenarios deportivos, Socializaciones sobre el tramite para solicitar permisos para el uso gratuito de los escenarios deportivos. | J47: Improbable | K47: Moderado | L47: Baja | M47: Permanente | N47: Socialización con la comunidad, ligas, clubes y usuarios de los escenarios deportivos | O47: Listado de asistencia, registro fotográfico | P47: 28/04/2024-31/07/2024-31/10/2024-31/12/2024 | Q47: Realizar 6 socializaciones con la comunidad , ligas , clubes y usuarios de los escenarios deportivos | R47: Dirección Administrativa y Financiera | S47: 1. Número de socializaciones sobre el uso y préstamo de los escenarios deportivos realizadas / Número total de socializaciones sobre el uso y préstamo de los escenarios deportivos programadas | T47: Se realizarán las socializciones en el segundo semestre de 2024 , se estructuró y se elaboró cronograma de trabajo | U47: 0.1 | V47: Se realizó reunión informativa sobre el proceso de prestamos de escenarios deportivos, el viernes 17 de mayo por medio de plataforma virtual con el fin de dar mayor alcance. Y se realizó reunión presencial en la Urbanización Los Corales con miembros de la comunidad | W47: =U47+30% -> 0.4 | X47: Se realizaron reuniónes informativas acerca del proceso de prestamos de escenarios deportivos a través de plataforma virtual dirigidas a deportistas, organismos deportivos, organizadores de eventos , íideres civiles y ciudadanos interesados. | Y47: =(W47+35%) -> 0.75 | Z47: Se realizaron reuniónes informativas acerca del proceso de préstamos de escenarios deportivos a través de plataforma virtual dirigidas a deportistas, organismos deportivos, organizadores de eventos , íideres civiles y aficionados. | AA47: =(Y47+25%) -> 1
