Workbook

Sheet Hoja4
B4: COMPONENTES | D4: % DE AVANCE
B5: 1 | D5: =+'MAPA DE RIESGO DE CORRUPCIÒN'!I16 -> Excelente proceso de contratacion del personal Definición de comites asesores con responsabilidades y funciones específicas para la toma de decisiones
B6: 2 | D6: =+#REF! -> #REF!
B7: 3 | D7: =+#REF! -> #REF!
B8: 4 | D8: =+#REF! -> #REF!
B9: 5 | D9: =+#REF! -> #REF!
B10: 6 | D10: =+#REF! -> #REF!
D11: =AVERAGE(D5:D10) -> #REF!

Sheet MAPA DE RIESGO DE CORRUPCIÒN
F1: INSTITUTO DISTRITAL DE DEPORTE Y RECREACIÓN - IDER
F2: Proceso: | H2: Planeación Institucional | U2: Código: | V2: ESPLOFPFO - 02
F3: Documento: | H3: Formato Mapa de Riesgo de Corrupción | U3: Versión: | V3: 1.0
F4: Fecha de Aprobación | H4: 44917 | U4: Página: | V4: Página 1 de 2
A5: Entidad: INSTITUTO DISTRITAL DE DEPORTE Y RECREACIÓN - IDER
A6: IDENTIFICACIÒN DE RIESGO | F6: VALORACIÒN DEL RIESGO DE CORRUPCCIÒN | P6: MONITOREO Y REVISIÒN
A7: No. | B7: PROCESO | C7: CAUSA | D7: RIESGO | E7: CONSECUENCIA | F7: ANALISIS DEL RIESGO | I7: VALORACIÒN DEL RIESGO | P7: FECHA | Q7: ACCIONES | R7: RESPONSABLE | S7: INDICADOR | T7: INDICADOR | U7: % de avance (Ene - Mar) 2023 | V7: % ACUMULADO (Ene - Mar) 2023 | W7: Observaciones ( Enero- Mar) 2023 | X7: % de avance (Abril-Junio) 2023 | Y7: % ACUMULADO (Abril-Junio) 2023 | Z7: % Acumulado (Ene-jun) 2023 | AA7: Observaciones (Abril-Junio) 2023 | AB7: % de avance (Julio-Septiembre) 2023 | AC7: % Acumulado (Ene-Sept) 2023 | AD7: Observaciones (Julio-Septiembre) 2023 | AE7: % de avance (Oct-Dic) 2023 | AF7: % Acumulado (Ene-Dic) 2023 | AG7: Observaciones (Oct-Dic ) 2023
F8: RIESGO INHERENTE | I8: CONTROLES | J8: RIESGO RESIDUAL | M8: ACCIONES ASOCIADAS
F9: PROBABILIDAD | G9: IMPACTO | H9: ZONA DE RIESGO | J9: PROBABILIDAD | K9: IMPACTO | L9: ZONA DE RIESGO | M9: PERIODO DE EJECUCIÒN | N9: ACCIONES | O9: REGISTRO
A10: 1 | B10: Direccionamiento Estrategico | C10: Tergiversar la información, maquillaje de cifras y datos Rapidez en la entrega de la información No verificación en la entrega a los diferentes entes de control No se valida la información ni la calidad de esta | D10: Brindar información errónea | E10: Incumplimiento metas, objetivos, calidad, transparencia en la información y en los procesos del instituto | F10: Probable | G10: Mayor | H10: Alta | I10: Reportes trimestrales de acuerdo a la ley de transparencia. Publicación de la información en el portal web Divulgación de la gestión a través de la Rendición de Cuentas Entrega de información a los diferentes órganos de control validada y revisada por los líderes de procesos, por planeación, y diferentes áreas de apoyo a lo misional. Integralidad del MIPG con MECI Calidad | J10: Improbable | K10: Moderado | L10: Baja | M10: Trimestral | N10: Diseñar e implementar procedimientos para la revisión y verificación de la información de manera eficaz, a través de la integración entre MIPG con MECI Calidad.,Socialización de los procedimientos y acompañamiento a los líderes en la fase I de implementación. | O10: listados de asistencia, registro fotogràfico | P10: 03/01/2023- 28/04/2023, 02/05/2023-31/08/2023, 01/0972023-29/12/2023 | Q10: Realizar 4 socializaciones del Manual de Procesos y Procedimientos del Instituto | R10: Dirección | S10: 1. Número de socializaciones del Manual de Procesos y Procedimientos versiòn 2.0 Realizada / Total socializaciones del Manual de Procesos y Procedimientos versiòn 2.0 Programadas | T10: 1 | U10: 0.15 | V10: 0.15 | W10: Se diseñaron e implementaron procedimientos para la revisión y verificación de la información de manera eficaz, a través de la integración entre MIPG con MECI Calidad.,Socialización de los procedimientos y acompañamiento a los líderes en la fase I de implementación. | X10: 0.25 | Z10: =(X10+V10) -> 0.4 | AA10: Se realizaron mesas de trabajo para determinar las riesgos de los procesos dentro de estas mesas se contemplaron la revisión, implementación y actualización de los procesos y procedimientos establecidos en el Manual Versión 2.0 del año 2022. | AB10: 0.25 | AC10: =(Z10+AB10) -> 0.65 | AD10: En el trimestre anterior se realizaron mesas de trabajo para determinar las riesgos de los procesos dentro de estas mesas se contemplaron la revisión, implementación y actualización de los procesos y procedimientos establecidos en el Manual Versión 2.0 del año 2022. | AE10: 0.35 | AF10: =(AC10+AE10) -> 1 | AG10: En este último trimestre del año 2023 , se realizó mesas de trabajo con los diferentes áreas del IDER en donde se logro ac tualizar algunos procesos y se acogieron a las reccomendaciones de las auditorias realizadas por la Oficna de Control Interno y la Contraloría Distrital en sus distintas auditorías.
T11: 1
A12: 2 | B12: Direccionamiento Estrategico | C12: Falta de los procedimientos internos para la gestión documental y archivo. Definición de responsables y apoyos tecnológicos para la gestión documental y archivo. Personas a cargo de almacenar esta información sean cambiantes en el cargo y no esté definido un procedimiento de entrega al terminar la gestión. | D12: Daño o pérdida de la información | E12: Falta de soportes y evidencias para la toma de decisiones. Evidencias insuficientes de las acciones importantes adelantadas en todos los ámbitos de la gestión, recursos financieros, contratación. | F12: Posible | G12: Catastrofico | H12: Extremo | I12: Definición de los procedimientos, capacitaciones en gestión documental y archivo, auditorías de estos procesos. | J12: Improbable | K12: Catastrofico | L12: Alta | M12: Permanente | N12: Definir responsable de la gestión documental y archivo, así como el responsable del acompañamiento tecnológico,Diseñar e implementar procedimiento de gestión documental y archivo, incluyendo el proceso de entrega de la información,Socializar el procedimiento y los formatos definidos, y acompañar en la fase I de implementación de éstos., Realizar back-ups de manera periódica para asegurar el archivo. | O12: Lisatados de asistencia , registro fotogràfico, Formato Copias de Seguridad de las dependencias | P12: 03/01/2023- 28/04/2023 , 02/05/2023-31/08/2023, 01/0972023-29/12/2023 | Q12: Realizar 4 socilizaciones del Procesos y Procedimientos de la Gestiòn Dcumental y sus formatos | R12: Dirección | S12: 1. Número de socializaciones de procedimiento y formatos de Gestiòn Dcumental / Total de procedimiento y formatos definidos en la Gestiòn Dcumental | T12: 1 | U12: 0 | V12: 0 | W12: Se realizarán en el segundo trimestre del año 2023 . | X12: 0 | Z12: =(X12+V12) -> 0 | AA12: Se realizarán en el segundo semestre del año 2023. . | AB12: 0.75 | AC12: =(Z12+AB12) -> 0.75 | AD12: Desde la Oficina de archivo se realizaron a cada dependencia del instituto solicializaciones en el manejo del archivo digital y físico. Así como se esta prestando apoyo técnico para el proceso de empalme. | AE12: 0.2 | AF12: =(AC12+AE12) -> 0.95 | AG12: Desde la Oficina de archivo se realizaron a cada dependencia del instituto solicializaciones en el manejo del archivo digital y físico. Así como se presto apoyo técnico para el proceso de empalme y los archicvos digitales del instituto producidos durante el periodo de 2020 a 2023.
T13: 0
T14: 0
T15: 1
A16: 3 | B16: Direccionamiento Estrategico | C16: Temas políticos Mecanismos de validación ineficientes Falta de control en la toma de las decisiones | D16: Tráfico de influencias | E16: Sanciones diciplinarias Multas | F16: Posible | G16: Mayor | H16: Alta | I16: Excelente proceso de contratacion del personal Definición de comites asesores con responsabilidades y funciones específicas para la toma de decisiones | J16: Improbale | K16: Mayor | L16: Moderado | M16: Permanente | N16: Socialización constante del Código de integrdidad del IDER a los tomadores de decisiones,Manual de Funciones y Competencias Laborales del IDER | O16: Listados de asistencias, registro fotogràfico | P16: 03/01/2023- 28/04/2023 , 02/05/2023-31/08/2023, 01/09/2023-29/12/2023 | Q16: Realizar 6 socializaciònes del Còdigo de integridad (1 general y 5 con cada uno de los valores dirigidos a funcionarios y contratistas del IDER) | R16: Dirección | S16: 1. Número de socializaciones realizadas del Código de integridad del IDER / Total de socializaciones del Código de integridad del IDER Programadas. | T16: 1 | U16: 0 | V16: 0 | W16: Se realizará en el segundo trimestre del año 2023 . | X16: 0 | Z16: =(X16+V16) -> 0 | AA16: Se realizará en el segundo trimestre del año 2023 . | AB16: 0.75 | AC16: =(Z16+AB16) -> 0.75 | AD16: Desde el mes de agosto de 2023, se inicio la feria de valores referentes a lo establecido en el Código de Integridad y culminará en el cuarte trimestre del 2023. La metodologia de esta ferría se basa en el trabajo en equipo entre las depencias a través de diferentes actividades recreativas que buscan la integración y la cohesión. | AE16: 0.25 | AF16: =(AC16+AE16) -> 1 | AG16: En este trimestre se continuó con la feria de valores referentes a lo establecido en el Código de Integridad.
T17: 0.4
A18: 4 | B18: Planeación Institucional | C18: No se cumplen con las metas establecidas en la planificación para un periodo. | D18: Posibilidad de Recibir dinero o dádiva para alterar la información que se reporta, cambiando los resultados de la gestión, con el fin de beneficiar los resultados obtenidos a nombre propio o de tercero. | E18: Hallazgos de los entes de Control. Desinformación de los usuarios. Inconsistencias en los informes presentados. | F18: Posible | G18: Mayor | H18: Alta | I18: Realizar la verificación de la información enviada por los funcionarios que desarrollan los programas y proyectos y la información socializada en la Rendición de Cuentas. | J18: Improbable | K18: Mayor | L18: Moderado | M18: Permanente | N18: Coherencia entre los reportes de Seguimiento al Plan de Acción con la Rendición de Cuenta. | O18: Formato de seguimiento de Plan de Acción , Informe de Gestión | P18: 03/01/2023- 28/04/2023 , 02/05/2023-31/08/2023, 01/09/2023-29/12/2023 | Q18: Realizar 12 seguimiento del Plan de Acciòn asì como 4 Informes de Gestiòn | R18: Oficina Asesora de Planeación | S18: 1. Número de informes realizados / Total de informes programados | T18: 1 | U18: 0.25 | V18: 0.25 | W18: Se realizó la primera reunión del plan de trabajo para la Rendición de Cuentas de la vigencia 2022 el día 21 de marzo de 2023. A la fecha se tienen consolidados los 4 informes del Plan de Acción del año 2022 y el primer trimestre de la vigencia 2023 , el primer informe de gestión de la vigencia 2023 y el infrome de gestión de cierre del año 2022. | X18: 0.25 | Z18: =(X18+V18) -> 0.5 | AA18: A la fecha se tienen consolidados los 2 informes del Plan de Acción del año 2023 y el primer trimestre de la vigencia 2023 y el segundo trimestre de 2023 , el informe de gestión a corte 15 de febrero de la vigencia 2023 y el informe de gestión a 15 de mayo del año 2023. | AB18: 0.25 | AC18: =(AB18+Z18) -> 0.75 | AD18: A la fecha se tienen consolidados los 9 informes del Plan de Acción del año 2023, el primer trimestre de la vigencia 2023 , el segundo trimestre de 2023 y el tercer trimestre de la vigencia 2023 asi como también con tamos con el informe de gestión a corte 15 de febrero de la vigencia 2023 , el informe de gestión a 15 de mayo del año 2023, y el informe de gestión a 15 de septiembre del año 2023. | AE18: 0.25 | AF18: =(AE18+AC18) -> 1 | AG18: A la fecha se tienen consolidados los 12 informes del Plan de Acción del año 2023, el primer trimestre de la vigencia 2023 , el segundo trimestre de 2023 , el tercer trimestre y el cuarto trimestre de la vigencia 2023 asi como también contamos con el informe de gestión a corte 15 de febrero de la vigencia 2023 , el informe de gestión a 15 de mayo del año 2023, y el informe de gestión a 15 de septiembre del año 2023.
A19: 5 | B19: Planeación Institucional | C19: Programas y proyectos sin claros objetivos y sus metas sin concordancia con el plan de desarrrollo . | D19: Posibilidad de Recibir dinero o dádiva para formular proyectos sin que se articulen con las directrices estratégicas del IDER y favorecer intereses propios y particulares. | E19: Pérdida de confianza y credibilidad en la entidad. Intervención de órganos de control. Sanciones. Inadecuada ejecución de la inversión pública. | F19: Posible | G19: Mayor | H19: Alta | I19: La Oficina Asesora de Planeación lidera los procesos de formulación de los diferentes proyectos del IDER, articulando su labor con las dependecias del Instituto, de acuerdo con los lineamientos establecidos en el Plan de Desarrollo. | J19: Improbable | K19: Mayor | L19: Moderado | M19: Permanente | N19: Los proyectos se formulan de acuerdo con la Metodología General Ajustada. Así como el diligenciamiento de los anexos presupuestales de cada proyecto. Todas las modificaciones y traslados que se realicen dentro del mismo o fuera de este, requieren del concepto favorable de Planeación Disttital así como la carga y actualización en las diferentes plataformas estatales según sea el caso. | O19: Certificado de Viabilidad de proyectos de la Secretaria Planeaciòn Distrital. | P19: 03/01/2023- 28/04/2023 , 02/05/2023-31/08/2023, 01/0972023-29/12/2023 | Q19: Realizar formulaciòn y actualizaciòn de los proyectos de inversiòn | R19: Oficina Asesora de Planeación | S19: 1. Número de certificados de viabilidad de la Secretaria de Planeación obtenidos / Total de certificados de viabilidad de la Secretaria de Planeación requeridos. | T19: =9/11 -> 0.81818182 | U19: 0.25 | V19: 0.25 | W19: Los 8 proeyectos del instituto se encuentran actualizados y vialbilizados por la Secretaría de Planeación Distrital a. Así como el diligenciamiento de los anexos presupuestales de cada proyecto. | X19: 0.25 | Z19: =(X19+V19) -> 0.5 | AA19: Para este período se actualizaron 4 proyectos de los 8 con que contamos, .por la prioriozación que se hizo en la incorporación de recursos al presupuesto de inversión del IDER. | AB19: 0.25 | AC19: =(AB19+Z19) -> 0.75 | AD19: En este período se actualizaron los 6 proyectos del IDER. | AE19: 0.25 | AF19: =(AE19+AC19) -> 1 | AG19: En este período, se realizó el cierre de los ocho (8) proyectos de inversión del Instituto de la vigencia 2023 y se actualizaron los presupuestos de los ocho (8) proyectos de Inversión para la vigencia 2024.
A20: 6 | B20: Gestión de las comunicaciones | C20: Falta de coordinación con las áreas que suministran la información. Entrega demorada u ocultamiento de información relacionada con temas misionales y de interés público. Ausencia de mecanismos de control de revisión, por parte del líder del proceso. Errores en la entrega de la información por parte de la fuente y falta de verificación de la información. Desconocimiento del proceso de comunicación por parte de los servidores públicos y contratistas de la Entidad. | D20: Información errada suministrada al interior de la entidad y a los medios de comunicación | E20: Afectar la imagen y/o reputación del instituto. Observaciones y/o hallazgos en las auditorías internas. Desinformación a la ciudadanía. Posibles investigaciones y/o sanciones por entes de control y entidades competentes. | F20: Posible | G20: Mayor | H20: Alta | I20: Obtención de la información de la Oficina Asesora de Planeación. Reuniones para coordinar las rutas a seguir en cuanto a la publicación de la información.Revisión de toda la información suministrada a la oficina de Comunicaciones para garantizar su correcta difusión. Realizar campañas sobre las herramientas existentes para garantizar una adecuada comunicación.Socializar los formatos para hacer los requerimientos del proceso de comunicaciones para lograr su articulación. | J20: Improbable | K20: Mayor | L20: Moderado | M20: Permanente | N20: Implementar los procedimientos al sistema de información.,Programar con los enlaces de cada área, las reuniones para revisar la información que se publica. Programar con los enlaces de cada área, una reunión y coordinar las actividades que realizan en el mes e informar los canales habilitados para hacer los requerimientos a la oficina de comunicaciones,Realizar un diágnostico sobre las herramientas existentes y conocer la percepción de los funcionarios sobre estas. | O20: Acta de reuniòn, listados de asistencias de los enlaces con las diferentes dependencias del IDER , diagnòsticos | P20: 03/01/2023- 28/04/2023 , 02/05/2023-31/08/2023, 01/0972023-29/12/2023 | Q20: Realizar 64 mesas de trabajo con los enlaces de cada depemdencia del IDER | R20: Oficina de Comunicaciones y Prensa | S20: 1. Número de mesas de trabajo desarrolladas / Número total de mesas de trabajo programadas | T20: 0.7 | U20: 0.25 | V20: 0.25 | W20: Se Implementaron los procedimientos al sistema de información, Se programo con los enlaces de cada área las reuniones para revisar la información que se pública. Se programo con los enlaces de cada área, una reunión y se coordinaron las actividades que realizan en el mes (2-3 reuniones por mes del equipo completo, 4 reuniones por mes con enlaces de areas) e informar los canales habilitados para hacer los requerimientos a la oficina de comunicaciones (Se implementó un formato para la solicitud de productos audiovisules y piezas gráficas)Realizar un diágnóstico sobre las herramientas existentes y conocer la percepción de los funcionarios sobre estas (Se diseñó y se socializó con la dirección general y posterior con los diferentes jefes de área el Plan Estratégico de Comunicaciones 2023, se envío por correo eletrónico el dia 23 de enero de 2023 ) y se encuentra publicada en páagina web institucional LINK:https://ider.gov.co/ider/transparencia/planeacion/. | X20: 0.25 | Z20: =(X20+V20) -> 0.5 | AA20: Se continua trajabando bajo la misma dinánimica del trimestre anterior. Se Implementaron los procedimientos al sistema de información, Se programó con los enlaces de cada área las reuniones para revisar la información que se pública. Se programó con los enlaces de cada área, una reunión y se coordinaron las actividades que realizan en el mes (2-3 reuniones por mes del equipo completo, 4 reuniones por mes con enlaces de areas) e informar los canales habilitados para hacer los requerimientos a la oficina de comunicaciones (Se implementó un formato para la solicitud de productos audiovisules y piezas gráficas)Realizar un diágnóstico sobre las herramientas existentes y conocer la percepción de los funcionarios sobre estas (Se diseñó y se socializó con la dirección general y posterior con los diferentes jefes de área el Plan Estratégico de Comunicaciones 2023, se envío por correo eletrónico el dia 23 de enero de 2023 ) y se encuentra publicada en páagina web institucional LINK:https://ider.gov.co/ider/transparencia/planeacion/. | AB20: 0.25 | AC20: =(A20+AB20) -> 6.25 | AD20: Se continua trajabando bajo la misma dinánimica del trimestre anterior, Se programó con los enlaces de cada área las reuniones para revisar la información que se pública, Se coordina con los enlaces de cada área las actividades que realizan en el mes (2-3 reuniones por mes del equipo completo, 4 reuniones por mes con enlaces de areas) e informar los canales habilitados para hacer los requerimientos a la oficina de comunicaciones. | AE20: 0.25 | AF20: =(AE19+AC19) -> 1 | AG20: Se continua trajabando bajo la misma dinánimica del trimestre anterior, Se programó con los enlaces de cada área las reuniones para revisar la información que se pública, Se coordina con los enlaces de cada área las actividades que realizan en el mes (2-3 reuniones por mes del equipo completo, 4 reuniones por mes con enlaces de areas) e informar los canales habilitados para hacer los requerimientos a la oficina de comunicaciones.
T21: 1
T22: 0.5
A23: 7 | B23: Gestión de las comunicaciones | C23: La información suministrada por las áreas se entrega extemporáneamente. Falta de comunicación entre los procesos interesados en comunicar información. Ausencia de idoneidad del personal que desarrolla las actividades No utilizar los canales de comunicación adecuados de acuerdo al tipo de información. Falta de equipos y software adecuados para la ejecución de las actividades de comunicaciones. Criterios no compartidos por parte de los actores del proceso para la ejecución de las actividades | D23: No comunicar oportunamente los eventos o actividades que realice el Instituto a través de los diferentes canales de comunicación | E23: Afectar la imagen y/o reputación del instituto. Observaciones y/o hallazgos en las auditorías internas. Desinformación a la ciudadanía. Posibles investigaciones y/o sanciones por entes de control y entidades competentes. Desinformación a la ciudadanía respecto a la información de sus trámites y servicios. Demora en las respuestas de los requerimientos asignados a las dependencias. Información tardía y desactualizada a la ciudadanía. | F23: Posible | G23: Moderado | H23: Moderado | I23: Informar los tiempos de respuesta para cada solicitud que realicen a la oficina de comunicaciones. Establecer un cronograma de entrega de información por parte de las áreas pertinentes a la dependencia de comunicaciones para generar los productos requeridos. Socializar los requerimientos del proceso de comunicaciones para lograr su articulación. . | J23: Improbable | K23: Moderado | L23: Baja | M23: Permanente | N23: Implementar los procesos y procedimientos de la Oficina de Comunicaciones, Programar con los enlaces de cada área, una reunión y coordinar las actividades que realizan en el mes e informar los canales habilitados para hacer los requerimientos a la oficina de comunicaciones. | O23: Acta de reuniòn, listados de asistencias de los enlaces con las diferentes dependencias del IDER | P23: 03/01/2023- 28/04/2023 , 02/05/2023-31/08/2023, 01/0972023-29/12/2023 | Q23: Realizar 64 mesas de trabajo con los enlaces de cada depemdencia del IDER | R23: Oficina de Comunicaciones y Prensa | S23: 1. Número de mesas de trabajo desarrolladas / Número total de mesas de trabajo programadas | T23: 0.8 | U23: 0.25 | V23: 0.25 | W23: (2-3 reuniones por mes del equipo completo, 4 reuniones por mes con enlaces de áreas) | X23: 0.25 | Z23: =(X23+V23) -> 0.5 | AA23: Se continua trajabando bajo la misma dimanimica del trimestre anterior: (2-3 reuniones por mes del equipo completo, 4 reuniones por mes con enlaces de áreas) | AB23: 0.25 | AC23: =(Z23+AB23) -> 0.75 | AD23: Se continua trajabando bajo la misma dimanimica del trimestre anterior: (2-3 reuniones por mes del equipo completo, 4 reuniones por mes con enlaces de áreas) | AE23: 0.25 | AF23: =(AC23+AE23) -> 1 | AG23: Se continua trajabando bajo la misma dimanimica del trimestre anterior: (2-3 reuniones por mes del equipo completo, 4 reuniones por mes con enlaces de áreas)
T24: 1
A25: 8 | B25: Gestión de las comunicaciones | C25: Falta de continuidad en el ejercicio por cambio de administración. Ausencia de canales efectivos de comunicación con la ciudadanía y al interior de la entidad. Falta de control de los lineamientos establecidos en el manual de comunicaciones a los procesos que están relacionados directamente. Incumplimiento de los objetivos establecidos en el manual de comunicaciones por falta de idoneidad del personal a cargo o por rotación del personal. No incluir la totalidad de los temas de impacto en el plan de comunicaciones. | D25: Incumplimiento a los lineamientos establecidos en el manual de comunicaciones | E25: Observaciones y/o hallazgos en las auditorías internas. Incumplimiento en la implementación de los objetivos de comunicación dirigidos a los públicos internos y externos. Pérdida de credibilidad frente a los públicos internos y externos. Falta de integración en la ejecución y en la toma de decisiones de los procesos comunicativos. Respuesta inoportuna a las solicitudes y consultas de los ciudadanos. Incumplimiento de los objetivos del Manual de Comunicaciones y a las metas estratégicas de la entidad. Afectación a la Imagen y reputación de la entidad. | F25: Posible | G25: Mayor | H25: Alta | I25: Realizar el manual de comunicaciones de la entidad al interior del proceso y a los funcionarios que tenga competencia dentro de la entidad. Realizar el seguimiento para garantizar el cumplimiento de los objetivos establecidos en el manual de comunicaciones (Reuniones con las diferentes subdirecciones y al interior del proceso - Consejos de redacción). | J25: Improbable | K25: Mayor | L25: Alta | M25: Permanente | N25: Cápsulas informativas difundidas en los diferentes canales de comunicación de la entidad y programar reuniones con los enlaces de cada oficina. | O25: Informe de seguimiento del Plan Estratégico de Comunicaciónes, acta y listados de asistencias de los enlaces con las diferentes dependencias del IDER | P25: 03/01/2023- 28/04/2023 , 02/05/2023-31/08/2023, 01/0972023-29/12/2023 | Q25: Realizar 3 infromes de segumiento al Plan Estrategico de Comunicaciones | R25: Oficina de Comunicaciones y Prensa | S25: 1. Número de informes de seguimiento del Plan Estratégico de comunicaciones realizados / Número total de informes de seguimiento del Plan Estratégico de comunicaciones requeridos. | T25: 1 | U25: 0.25 | V25: 0.25 | W25: El seguimiento se realiza de forma trimestral se realizó (1) un seguimiento a corte marzo 31 del 2023, se realiza un informe mensual del comportamiento de redes sociales, se realizaron durante el primer trmestre de 2023 (3) informes de redes sociales, el informe trimestral se encuentra publicado en página web institucional, LINK: https://ider.gov.co/ider/transparencia/planeacion/estrategia-comunicacional-ider/ | X25: 0.25 | Z25: =(X25+V25) -> 0.5 | AA25: El seguimiento se realiza de forma trimestral se realizó (1) un seguimiento a corte junio 30 del 2023, se realiza un informe mensual del comportamiento de redes sociales, se realizaron durante el segundo trimestre de 2023 (3) informes de redes sociales, el informe trimestral se encuentra publicado en página web institucional, LINK: https://ider.gov.co/ider/transparencia/planeacion/estrategia-comunicacional-ider/ | AB25: 0.25 | AC25: =(Z25+AB25) -> 0.75 | AD25: El seguimiento se realiza de forma trimestral se realizó (1) un seguimiento a corte septiembre 30 del 2023, se realiza un informe mensual del comportamiento de redes sociales, se realizaron durante el tercer trimestre de 2023 (3) informes de redes sociales, el informe trimestral se encuentra publicado en página web institucional, LINK: https://ider.gov.co/ider/transparencia/planeacion/estrategia-comunicacional-ider/ | AE25: 0.25 | AF25: =(AC25+AE25) -> 1 | AG25: El seguimiento se realiza de forma trimestral se realizó (1) un seguimiento a corte diciembre 31 del 2023, se realiza un informe mensual del comportamiento de redes sociales, se realizaron durante el cuarto trimestre de 2023 (4) informes de redes sociales, el informe trimestral se encuentra publicado en página web institucional, LINK: https://ider.gov.co/ider/transparencia/planeacion/estrategia-comunicacional-ider/
A26: 9 | B26: Promoción y Fomento Deportivo | C26: Desconocimiento de los padres del proceso formativo que se sigue con sus hijos. Mecanismos insuficientes para la toma de decisiones. | D26: Trafico de influencias para la inscripcion de niños sin tener en cuenta los niveles de formación | E26: Incumplimiento de objetivos y metas. Pérdida de confianza y credibilidad en la entidad. Intervención de órganos de control. Sanciones. Pérdida de recursos económicos. | F26: Poco probable | G26: Moderado | H26: Baja | I26: Evaluaciones periodicas a los profesores . Capacitación en el proceso a los padres Seguimiento a los proceso | J26: Rara vez | K26: Moderado | L26: Baja | M26: Semestral | N26: Capacitación de los docentes, equipo sicosocial y administrativo de la EIFD,Selección de los niños de acuerdo a los niveles de formación que se tienen en la EIFD | O26: Llistados de asistencias, registro fotográfico | P26: 03/01/2023- 28/04/2023 , 02/05/2023-31/08/2023, 01/0972023-29/12/2023 | Q26: Realizar 6 capacitaciones a los docentes, equipo sicosocial y administrativo de la EIFD | R26: Deportes | S26: 1. Número de capacitaciones realizadas a los docentes, equipo sicosocial y administrativo de la EIFD / Número total de capacitaciones Programadas para los docentes, equipo sicosocial y administrativo de la EIFD | T26: 1 | U26: 0.25 | V26: 0.25 | W26: 1. Se realizo reunion de inducción al equipo sicosocial y administrativo de la EIFD el dia 21 de febrero y re realizaron reuniones periódicas semanalmente de seguimiento a los procesos de la EIFD. | X26: 0.25 | Y26: Se realizaron reuniones periodicas semanales y mensuales con el equipo Psicosocial, Administrativo y de docentes, para seguimentos y ajustes a los procesos de la EIFD. Para el mes de abril finalizo el periodo de inscripcion al nivel de enfasis. | Z26: =(X26+V26) -> 0.5 | AA26: Se realizaron reuniones periódicas semanales y mensuales con el equipo Psicosocial, Administrativo y de docentes, para seguimentos y ajustes a los procesos de la EIFD. Para el mes de abril finalizó el periodo de inscripción al nivel de énfasis. | AB26: 0.25 | AC26: =(Z26+AB26) -> 0.75 | AD26: Se realizaron reuniones periodicas semanales y mensuales con el equipo Psicosocial, Administrativo y de docentes, para seguimentos y ajustes a los procesos de la EIFD. Para el mes agosto se realizóla jornada de inscripción del segundo periodo y finalizó en el mes de septiembre paral nivel de iniciacion. | AE26: 0.25 | AF26: =(AC26+AE26) -> 1 | AG26: Se realizaron reuniones periodicas semanales y mensuales con el equipo Psicosocial, Administrativo y de docentes, para seguimentos y ajustes a los procesos de la EIFD.
T27: 1
A29: 10 | B29: Promoción y Fomento Deportivo | C29: Falta de acompañamiento en el proceso de inscripción Mecanismos y procedimientos insuficientes para la verificacion de los requisitos para inscripción | D29: Desconocimiento de los procesos de inscripción a los juegos intercolegiados | E29: Pérdida de confianza y credibilidad en la entidad. Intervención de órganos de control. | F29: Posible | G29: Moderado | H29: Moderado | I29: Verificación en la pagina web del Ministerio del Deporte Verificacion e informe de los inscritos dado por el Ministerio | J29: Rara vez | K29: Moderado | L29: Baja | M29: Mensual | N29: Socializaciones a las instituciones educativas, Acompañamiento a los procesos de inscripción a la instituciones educativas y estudiantes | O29: Llistados de asistencias, registro fotográfico | P29: 03/01/2023- 28/04/2023 , 02/05/2023-31/08/2023, 01/0972023-29/12/2023 | Q29: Realizar 15 socializaciones a las instituciones educativas del Distrito de Cartagena de Indias | R29: Deportes | S29: 1. Número de socializaciones realizadas a las instituciones educativas del Distrito de Cartagena de Indias / Número Total de socializaciones programadass | T29: =207/210 -> 0.98571429 | U29: 0.25 | V29: 0.25 | W29: En este período no se ha habilitado el proceso de inscripción a Juegos Intercolegiados por parte del Ministerio del Deporte .Se tiene previsto la apertura para el segundo trimestre del 2023. Se realizó una socialización de los Juegos Universitarios con Ascun y el IDER | X29: 0.25 | Y29: En este período no se ha habilitado el proceso de inscripción a Juegos Intercolegiados por parte del Ministerio del Deporte .Se tiene previsto la apertura para el tercer trimestre del 2023. Se estan realizando actividades recreo-deportivas con el objetivo de incentivar la participacion de los estudiantes y las Instituciones educativas en los juegos Intercolegiados viegncia 2023. | Z29: =(X29+V29) -> 0.5 | AA29: En este período no se ha habilitado el proceso de inscripción a Juegos Intercolegiados por parte del Ministerio del Deporte .Se tiene previsto la apertura para el tercer trimestre del 2023. Se estan realizando actividades recreo-deportivas con el objetivo de incentivar la participación de los estudiantes y las Instituciones educativas en los Juegos Intercolegiados viegncia 2023. | AB29: 0.25 | AC29: =(Z29+AB29) -> 0.75 | AD29: Desde el 1 de julio iniciaron los procesos de Inscripción de los juegos intercolegiados 2023, los cuels se extendieron hasta el 28 de agosto.. Se logró una inscripción de 6,137 estudiantes deportistas y 162 instituciones educativas que participaron de estos juegos para la vigencia 202.. | AE29: 0.25 | AF29: =(AC29+AE29) -> 1 | AG29: Se finalizaron las competencias de los juegos Intercolegiados vigencia 2023, con fecha del 30 de noviembre del 2023
T30: 0.2
A31: 11 | B31: Promoción y Fomento Deportivo | C31: Mecanismos y procedimientos insuficientes para la verificacion de los requisitos para inscripcion | D31: Omisión para la verificacion de la información que brindan los participantes | E31: Incumplimiento de objetivos y metas. Pérdida de confianza y credibilidad en la entidad. Intervención de órganos de control. Sanciones. Pérdida de recursos económicos. | F31: Probable | G31: Moderado | H31: Moderado | I31: Campañas de capacitación y socializacion de los referentes a las convocatorias | J31: Posible | K31: Moderado | L31: Moderado | M31: Semestral | N31: Socialización de los referentes y requisitos para particpar de las convocatorias | O31: Llistados de asistencias, registro fotográfico | P31: 03/01/2023- 28/04/2023 , 02/05/2023-31/08/2023, 01/0972023-29/12/2023 | Q31: Realizar 3 socializaciones a los grupos de valor | R31: Deportes | S31: 1. Número de socializaciones realizadas a los grupos de valor / Número Total de socializaciones programadas a los grupos de valor. | T31: =554/554 -> 1 | U31: 0.25 | V31: 0.25 | W31: Se realiazó socialización de las dos convocatorias: 1. convocatoria dirigida a deportistas (24-02-2023)y 2. convocatoria dirigida a organismos deportivos (16-03-2023). | X31: 0.25 | Y31: Se realiazó socialización de las dos convocatorias: 1. convocatoria dirigida a deportistas (24-02-2023)y 2. convocatoria dirigida a organismos deportivos (16-03-2023). | Z31: =(X31+V31) -> 0.5 | AA31: Se realizó socialización de las dos convocatorias: 1. convocatoria dirigida a deportistas (24-02-2023)y 2. convocatoria dirigida a organismos deportivos (16-03-2023). | AB31: 0.25 | AC31: =(Z31+AB31) -> 0.75 | AD31: Se realizó socialización y publicacion de las convocatorias: 3° convocatoria dirigida a deportistas (16-08-2023), 4° convocatoria dirigida a deportistas (25-08-2023) y 5° convocatoria dirigida a deportistas (26-09-2023) | AE31: 0.25 | AF31: =(AC31+AE31) -> 1 | AG31: Durante este período se publicó el listado total de 81 atletas beneficiados correspondientes a la Quinta Invitación Pública para apoyo y/o incentivos a Juegos Nacionales y Paranacionales 2023. Durante este período se publicó el listado total de 2 atletas beneficiados correspondientes a la Invitación Pública para apoyo y/o incentivos Padal Panamericano 2023, Se publico la segunda invitación mundialista con la resolución N° 296 de octubre 25 de 2023 por medio de la cual se publica el listado de los atletas clasificados y/o seleccionados para representar a Colombia en los campeonatos mundiales de su respectivo deporte y que tengan previsto desarrollarse entre agosto y diciembre de 2023; para acceder a los apoyos y/o estímulos establecidos. Listado Apoyos Mundialistas de 2 atletas. Link https://ider.gov.co/wp-content/uploads/2023/10/RES.-296-Publicacion-atletas-beneficiados-Padal-Mundial-segunda-invitacion.pdf Se publico la primera invitación mundialista con la resolución N° 244 de agosto 25 de 2023 por medio de la cual se publica el listado de los atletas clasificados y/o seleccionados para representar a Colombia en los campeonatos mundiales de su respectivo deporte y que tengan previsto desarrollarse entre agosto y diciembre de 2023; para acceder a los apoyos y/o estímulos establecidos. Listado Apoyos Mundialistas de 6 atletas. Link https://ider.gov.co/wp-content/uploads/2023/08/RES.-244-Publicacion-atletas-beneficiados-Padal-Mundial.pdf , A corte 29 de diciembre se realizaron 1. Durante este período se hizo entrega de estímulos a 64 atletas apoyados por el IDER que obtuvieron medalla en los Juegos Nacionales y Paranacionales 2023. 2. Cinco (5) atletas de deporte adaptado renunciaron a los apoyos por no reunir los requisitos de acceso al no haber clasificado finalmente a las Justas.
A32: 12 | B32: Promoción y Fomento Deportivo | C32: Falta de conocimiento de los reglamento y estatutos | D32: Incumplimiento de los reglamentos y estatutos establecidos | E32: Incumplimiento de objetivos y metas. Pérdida de confianza y credibilidad en la entidad. Intervención de órganos de control. Sanciones. Pérdida de recursos económicos. | F32: Probable | G32: Moderado | H32: Moderado | I32: Campañas de capacitación y socializacion de los reglamento y estatutos referente a las convocatorias | J32: Posible | K32: Moderado | L32: Moderado | M32: Permanente | N32: Capacitación y socialización del reglamaneto y estatutos referentes de la convocatoria | O32: Listados de asistencia , registro fotográfico | P32: 03/01/2023- 28/04/2023 , 02/05/2023-31/08/2023, 01/0972023-29/12/2023 | Q32: Realizar 3 socializaciones a los grupos de valor | R32: Deportes | S32: 1. Número de socializaciones realizadas a los grupos de valor / Número Total de socializaciones programadas a los grupos de valor. | T32: =4/4 -> 1 | U32: 0.25 | V32: 0.25 | W32: Se realiazó socialización de los reglamentos y estatutos a las dos convocatorias: 1. convocatoria dirigida a deportistas (24-02-2023)y 2. convocatoria dirigida a organismos deportivos (16-03-2023) | X32: 0.25 | Y32: Para esta segunda convocatoria se estan realizando socializaciones y acompañiamientos personalizados a cada organo deportivo, para su debido proceso y adjudicacion de documentos y demas referentes. | Z32: =(X32+V32) -> 0.5 | AA32: Para esta segunda convocatoria se estan realizando socializaciones y acompañiamientos personalizados a cada organo deportivo, para su debido proceso y adjudicación de documentos y demás referentes. | AB32: 0.25 | AC32: =(Z32+AB32) -> 0.75 | AD32: Para estas convocatorias se realizaron socializaciones y acompañiamientos personalizados a cada organo deportivo, para su debido proceso y adjudicacion de documentos y demás referentes. Para la postulación de sus deportitas.se desarrollo un proceso de revisón y validación de los documentos, asi mismo se llevo a cabo la etapa de subsanacion para cada una de las convocatorias. | AE32: 0.25 | AF32: =(AC32+AE32) -> 1 | AG32: Para estas convocatorias y/o invitaciones publicas, se realizaron socializaciones y acompañiamientos personalizados a cada organo deportivo, para su debido proceso y adjudicacion de documentos y demás referentes. Para la postulación de sus deportitas.se desarrollo un proceso de revisón y validación de los documentos, asi mismo se llevo a cabo la etapa de subsanacion para cada una de las convocatoriasy/o invitaciones públicas.
A33: 13 | B33: Promoción y Fomento Deportivo | C33: Mecanismos insuficientes para verificar los documentos Premura en la verificacion de los documentos | D33: Falsedad de los documentos presentados | E33: Incumplimiento de objetivos y metas. Pérdida de confianza y credibilidad en la entidad. Intervención de órganos de control. Sanciones. Pérdida de recursos económicos. | F33: Posible | G33: Moderado | H33: Moderado | I33: Verificar los procesos Contar con bases de datos de las ligas | J33: Rara vez | K33: Moderado | L33: Moderado | M33: Semestral | N33: Verificación y revisión de la documentación presentada | O33: Lista de chequeo de los documentos presentados | P33: 03/01/2023- 28/04/2023 , 02/05/2023-31/08/2023, 01/0972023-29/12/2023 | Q33: Realizar diligencioamiento de la lista de chequeo para la revisiòn y verificaciòn de documentos | R33: Deportes | S33: 1. Número de inspecciones realizadas a través de lista de chequeo para la revisión y verificación de documentos / Número Total de Inspecciones programadas de revisión y verificación de documentos. | T33: 0 | U33: 0 | V33: 0 | W33: La convocatoria de organismos deportivos no se encuentra en esta etapa. | X33: 0.5 | Y33: Para la primera convocatoria de invitacion de organismos deportivos se cumplio con el cronograma en las fechas establecidas, en el proceso de evaluacion y la publicacion de la lista de beneficiarios. | Z33: =(V33+X33) -> 0.5 | AA33: Para la primera convocatoria de invitación de organismos deportivos se cumplió con el cronograma en las fechas establecidas, en el proceso de evaluacion y la publicación de la lista de beneficiarios. | AB33: 0.25 | AC33: =(Z33+AB33) -> 0.75 | AD33: Para la primera convocatoria de invitacion de organismos deportivos se cumplio con el cronograma en las fechas establecidas, en el proceso de evaluacion y la publicacion de la lista de beneficiarios. Para este periodo se esta a la espera de la contaratacion del operador que se encargará de la provisión de los bienes y servicios para cada uno los Organismos Deportivos | AE33: 0.25 | AF33: =(AC33+AE33) -> 1 | AG33: A corte 29 de diciembre se realizaron:1.Durante este período se hizo entrega de estímulos a 64 atletas apoyados por el IDER que obtuvieron medalla en los Juegos Nacionales y Paranacionales 2023. 2. Cinco (5) atletas de deporte adaptado renunciaron a los apoyos por no reunir los requisitos de acceso al no haber clasificado finalmente a las Justas.A corte 20 de noviembre se realizaron:Durante este período se publicó el listado total de 2 atletas beneficiados correspondientes a la Invitación Pública para apoyo y/o incentivos Padal Mundial.A corte 20 de octubre se realizaron:Se inició el trámite para el pago de estímulos a ochenta y tres (83) atletas adscritos a las Ligas Deportivas Departamentales, clasificados a Campeonatos Juegos Deportivos Nacionales y Paranacionales 2023 y Juegos Panamericanos Santiago 2023.
A34: 14 | B34: Promoción y Fomento Deportivo | C34: Mecanimos insuficientes para verificar información suministrada | D34: Trafico de influencias para la decision de apoyo de un evento en particular | E34: Incumplimiento de objetivos y metas. Pérdida de confianza y credibilidad en la entidad. Intervención de órganos de control. Sanciones. Pérdida de recursos económicos. | F34: Posible | G34: Moderado | H34: Moderado | I34: Definir criterios de selección Verificacion con los organismos del deporte Crear procedimientos para la escogencia de eventos | J34: Improbable | K34: Moderado | L34: Baja | M34: Mensual | N34: Publicación y socialización de requisitos y referentes para la participación,publicaciòn de criterios de evaluación para organismos deportivos. | O34: Listados de asistencia , piezas comunicacionales, registro fotogràfico | P34: 03/01/2023- 28/04/2023 , 02/05/2023-31/08/2023, 01/0972023-29/12/2023 | Q34: Realizar 3 publicaciones de criterios de evaluaciòn para los organismos deportivos | R34: Deportes | S34: 1. Número de publicaciones de criterios de evaluación para los organismos deportivos realizadas / Número Total de publicaciones de criterios de evaluación para los organismos deportivos requeridas | T34: =3/3 -> 1 | U34: 0.25 | V34: 0.25 | W34: Se realiazo 1 publicación de los terminos de referencia y criterios de evaluacion de la convocatoria de organismos deportivos. | X34: 0.25 | Y34: Se realiazo publicación de los terminos de referencia y criterios de evaluacion de la segunda convocatoria de organismos deportivos. | Z34: =(X34+V34) -> 0.5 | AA34: Se realiazó la publicación de los términos de referencia y criterios de evaluacion de la segunda convocatoria de organismos deportivos. | AB34: 0.25 | AC34: =(Z34+AB34) -> 0.75 | AD34: Por medio de Resolución Nº 157 del 06 de junio del 2023,Se realiazo publicación la lista definitiva de las propuestas aprobadas de las Ligas Deportivas Departamentales de Bolívar y a los Clubes Deportivos de Discapacidad del Distrito de Cartagena de Indias; para acceder a los apoyos y/o incentivos que coadyuven a la obtención de resultados deportivos sobresalientes en los Juegos Deportivos Nacionales y Paranacionales 2023. | AE34: 0.25 | AF34: =(AC34+AE34) -> 1 | AG34: Durante este período se continuo con el apoyo a organismos deportivos de manera más agil y de acuerdo a los planes de actividades entregados a la Oficina de Deportes sobre la participación en diferentes eventos y/o torneos.
T35: 1
A36: 15 | B36: Promocion y Fomento de la actividad fisica y el uso del tiempo libre. | C36: Mecanimos insuficientes para el alamacenamiento de la información suministrada | D36: Uso ilegitimo de la información en los procesos de inscripción. | E36: Pérdida de confianza y credibilidad en la entidad. Intervención de órganos de control. Sanciones. Pérdida de recursos económicos. | F36: Posible | G36: Moderado | H36: Moderado | I36: Definir criterios y procedimientos de inscripcion y selección de participantes | J36: Improbable | K36: Moderado | L36: Baja | M36: Bimensual | N36: Definir mecanismos para la revisión y verificación de los documentos, Implementación de mecanismos para la toma de decisiones. | O36: Lista de chequeo de los documentos presentados y formato de criterios para la toma de decisiones | P36: 03/01/2023- 28/04/2023 , 02/05/2023-31/08/2023, 01/0972023-29/12/2023 | Q36: Realizar diligenciamiento de la lista de chequeo para la revisiòn y verificaciòn de documentos y formatos de criterios para la toma de desiciones | R36: Recreación | S36: 1. Número de lista de chequeo diligenciadas de revisión y verificación de documentos así como formatos con criterios para la toma de decisiones / Número total de lista de chequeo de revisión y verificación de documentos y formatos con criterios para la toma de decisiones requeridos. | T36: 1 | U36: 0.25 | V36: 0.25 | W36: Se implementaron 5 listas de chequeo en el los procesos de inscripción y selección de participantes (planillas, registro fotografico, fichas de inscripción y actas) Como mecanismo para la revisión y verificación de los documentos, el área cuenta con una carpeta DRIVE donde se hace archivo y respaldo de la información de las diferentes listas de chequeos, la cual se actualiza permanentemente | X36: 0.25 | Z36: =(X36+V36) -> 0.5 | AA36: En este periodo se siguieron implementando las 5 listas de chequeo en el los procesos de inscripción y selección de participantes (planillas, registro fotografico, fichas de inscripción y actas) Como mecanismo para la revisión y verificación de los documentos, el área cuenta con una carpeta DRIVE LINK: https://drive.google.com/drive/folders/1hUFj25YboXNx8CzfInK_ExbQ5DGWRxic?usp=sharing donde se hace archivo y respaldo de la información de las diferentes listas de chequeos, la cual se actualiza permanentemente. | AB36: 0.25 | AC36: =(AB36+Z36) -> 0.75 | AD36: Se implementaron las 5 listas de chequeo (planillas, registro fotografico, fichas de inscripción y actas) . Para la verificación y revisión de los documentos, se maneja la información en un DRIVE https://drive.google.com/drive/folders/1hUFj25YboXNx8CzfInK_ExbQ5DGWRxic?usp=sharing para garantizar un soporte de la información y las diferentes listas de chequeos, la actualización de la información es permanente, asi se garantiza el acceso a la información de manera ágil.. | AE36: 0.25 | AF36: =(AE36+AC36) -> 1 | AG36: Se implementaron las 5 listas de chequeo (planillas, registro fotografico, fichas de inscripción y actas) . Para la verificación y revisión de los documentos, se maneja la información en un DRIVE https://drive.google.com/drive/folders/1hUFj25YboXNx8CzfInK_ExbQ5DGWRxic?usp=sharing para garantizar un soporte de la información y las diferentes listas de chequeos, la actualización de la información es permanente, asi se garantiza el acceso a la información de manera ágil..
T37: 1
A38: 16 | B38: Promocion y Fomento de la actividad fisica y el uso del tiempo libre. | C38: Mecanimos insuficientes para verificar información suministrada Favorecimiento a un tercero | D38: Soborno y tráfico de influencias. | E38: Pérdida de confianza y credibilidad en la entidad. Intervención de órganos de control. Sanciones. Pérdida de recursos económicos. | F38: Posible | G38: Moderado | H38: Moderado | I38: Definir criterios y procedimientos de inscripcion y selección de participantes | J38: Improbable | K38: Moderado | L38: Baja | M38: Bimensual | N38: Definir mecanismos para la revisión y verificación de los documentos,Implementación de mecanismos para la toma de decisiones | O38: Lista de chequeo de los documentos presentados y formato de criterios para la toma de decisiones | P38: 03/01/2023- 28/04/2023 , 02/05/2023-31/08/2023, 01/0972023-29/12/2023 | Q38: Realizar diligenciamiento de la lista de chequeo para la revisiòn y verificaciòn de documentos y formatos de criterios para la toma de desiciones | R38: Recreación | S38: 1. Número de lista de chequeo diligenciadas de revisión y verificación de documentos así como formatos con criterios para la toma de decisiones / Número total de lista de chequeo de revisión y verificación de documentos y formatos con criterios para la toma de decisiones requeridos. | T38: 1 | U38: 0.25 | V38: 0.25 | W38: Se implementaron 5 listas de chequeo en el los procesos de inscripción y selección de participantes (planillas, registro fotografico, fichas de inscripción y actas) Como mecanismo para la revisión y verificación de los documentos, el área cuenta con una carpeta DRIVE donde se hace archivo y respaldo de la información de las diferentes listas de chequeos, la cual se actualiza permanentemente | X38: 0.25 | Z38: =(V38+X38) -> 0.5 | AA38: Se implementaron 5 listas de chequeo en el los procesos de inscripción y selección de participantes (planillas, registro fotografico, fichas de inscripción y actas) Como mecanismo para la revisión y verificación de los documentos, el área cuenta con una carpeta DRIVE LINK: https://drive.google.com/drive/folders/1hUFj25YboXNx8CzfInK_ExbQ5DGWRxic?usp=sharing donde se hace archivo y respaldo de la información de las diferentes listas de chequeos, la cual se actualiza permanentemente. | AB38: 0.25 | AC38: =(Z38+AB38) -> 0.75 | AD38: Se implementaron 5 listas de chequeo en el los procesos de inscripción y selección de participantes (planillas, registro fotografico, fichas de inscripción y actas) Como mecanismo para la revisión y verificación de los documentos, el área cuenta con una carpeta DRIVE LINK: https://drive.google.com/drive/folders/1hUFj25YboXNx8CzfInK_ExbQ5DGWRxic?usp=sharing donde se hace archivo y respaldo de la información de las diferentes listas de chequeos, la cual se actualiza permanentemente. | AE38: 0.25 | AF38: =(AC38+AE38) -> 1 | AG38: Se implementaron 5 listas de chequeo en el los procesos de inscripción y selección de participantes (planillas, registro fotografico, fichas de inscripción y actas) Como mecanismo para la revisión y verificación de los documentos, el área cuenta con una carpeta DRIVE LINK: https://drive.google.com/drive/folders/1hUFj25YboXNx8CzfInK_ExbQ5DGWRxic?usp=sharing donde se hace archivo y respaldo de la información de las diferentes listas de chequeos, la cual se actualiza permanentemente.
T39: 1
A40: 17 | B40: Promocion y Fomento de la actividad fisica y el uso del tiempo libre. | C40: Mecanimos insuficientes para verificar información suministrada Favorecimiento a un tercero | D40: Privilegiar el tráfico de influencias para la selección de sede para eventos | E40: Pérdida de confianza y credibilidad en la entidad. Intervención de órganos de control. Sanciones. Pérdida de recursos económicos. | F40: Posible | G40: Moderado | H40: Moderado | I40: Definir criterios y procedimientos de inscripcion y selección de participantes | J40: Improbable | K40: Moderado | L40: Baja | M40: Bimensual | N40: Definir mecanismos para la revisión y verificación de los documentos, Implementación de mecanismos para la toma de decisiones. | O40: Lista de chequeo de los documentos presentados y formato de criterios para la toma de decisiones | P40: 03/01/2023- 28/04/2023 , 02/05/2023-31/08/2023, 01/0972023-29/12/2023 | Q40: Realizar diligencioamiento de la lista de chequeo para la revisiòn y verificaciòn de documentos y formatos de criterios para la toma de desiciones | R40: Recreación | S40: 1. Número de lista de chequeo diligenciadas de revisión y verificación de documentos así como formatos con criterios para la toma de decisiones / Número total de lista de chequeo de revisión y verificación de documentos y formatos con criterios para la toma de decisiones requeridos. | T40: 1 | U40: 0.25 | V40: 0.25 | W40: Se implementaron 5 listas de chequeo en el los procesos de inscripción y selección de participantes (planillas, registro fotografico, fichas de inscripción y actas) Como mecanismo para la revisión y verificación de los documentos, el área cuenta con una carpeta DRIVE donde se hace archivo y respaldo de la información de las diferentes listas de chequeos, la cual se actualiza permanentemente | X40: 0.25 | Z40: =(X40+V40) -> 0.5 | AA40: Se implementaron 5 listas de chequeo en el los procesos de inscripción y selección de participantes (planillas, registro fotografico, fichas de inscripción y actas) Como mecanismo para la revisión y verificación de los documentos, el área cuenta con una carpeta DRIVE LINK: https://drive.google.com/drive/folders/1hUFj25YboXNx8CzfInK_ExbQ5DGWRxic?usp=sharing donde se hace archivo y respaldo de la información de las diferentes listas de chequeos, la cual se actualiza permanentemente | AB40: 0.25 | AC40: =(AB40+Z40) -> 0.75 | AD40: Se implementaron 5 listas de chequeo en el los procesos de inscripción y selección de participantes (planillas, registro fotografico, fichas de inscripción y actas) Como mecanismo para la revisión y verificación de los documentos, el área cuenta con una carpeta DRIVE LINK: https://drive.google.com/drive/folders/1hUFj25YboXNx8CzfInK_ExbQ5DGWRxic?usp=sharing donde se hace archivo y respaldo de la información de las diferentes listas de chequeos, la cual se actualiza permanentemente | AE40: 0.25 | AF40: =(AE40+AC40) -> 1 | AG40: Se implementaron 5 listas de chequeo en el los procesos de inscripción y selección de participantes (planillas, registro fotografico, fichas de inscripción y actas) Como mecanismo para la revisión y verificación de los documentos, el área cuenta con una carpeta DRIVE LINK: https://drive.google.com/drive/folders/1hUFj25YboXNx8CzfInK_ExbQ5DGWRxic?usp=sharing donde se hace archivo y respaldo de la información de las diferentes listas de chequeos, la cual se actualiza permanentemente
A42: 22 | B42: Promocion y Fomento de la actividad fisica y el uso del tiempo libre. | C42: Mecanimos insuficientes para el alamacenamiento de la información suministrada | D42: Uso ilegitimo de la información en los procesos de seguimiento y evaluación. | E42: Pérdida de confianza y credibilidad en la entidad. Intervención de órganos de control. Sanciones. Pérdida de recursos económicos. | F42: Probable | G42: Moderado | H42: Moderado | I42: Definir criterios y procedimientos de inscripcion y selección de participantes | J42: Improbable | K42: Moderado | L42: Baja | M42: Bimensual | N42: Implementación de mecanismos para la toma de decisiones | O42: Formato de criterios para la toma de decisiones | P42: 03/01/2023- 28/04/2023 , 02/05/2023-31/08/2023, 01/0972023-29/12/2023 | Q42: Realizar diligenciamiento de los formatos de criterios para la toma de desiciones | R42: Recreación | S42: 1. Número de formatos con criterios para la toma de decisiones diligenciados / Número total de formatos con criterios para la toma de decisiones requeridos. | T42: 1 | U42: 0.25 | V42: 0.25 | W42: Se implementaron las 4 listas de chequeo, según los criterios para la toma de decisiones. (mesas de trabajo, actas, formularios de inscripción y registros fotograficos) | X42: 0.25 | Z42: =(X42+V42) -> 0.5 | AA42: Se implementaron las 4 listas de chequeo, según los criterios para la toma de decisiones. (mesas de trabajo, actas, formularios de inscripción y registros fotograficos) | AB42: 0.25 | AC42: =(AB42+Z42) -> 0.75 | AD42: Se implementaron las 4 listas de chequeo, según los criterios para la toma de decisiones. (mesas de trabajo, actas, formularios de inscripción y registros fotograficos) | AE42: 0.25 | AF42: =(AE42+AC42) -> 1 | AG42: Se implementaron las 4 listas de chequeo, según los criterios para la toma de decisiones. (mesas de trabajo, actas, formularios de inscripción y registros fotograficos)
...

Sheet Control de Cambios 
A1: CONTROL DE CAMBIOS
A2: Versión | B2: Fecha y acto administrativo de aprobación | C2: Descripción del cambio | D2: Nombre del solicitante
G7: ITEM | H7: COMPONENTE | I7: % ACUMULADO - ENERO A DICIEMBRE DE 2023
G8: 1 | H8: MAPA DE RIESGO DE CORRUPCIÓN | I8: ='MAPA DE RIESGO DE CORRUPCIÒN'!AF93 -> 0.99146341
G9: 2 | H9: RACIONALIZACIÓN DE TRÁMITES | I9: ='RACIONALIZACION DE TRAMITES '!Q47 -> 1
G10: 3 | H10: RENDICIÓN DE CUENTAS | I10: ='RENDICIÒN DE CUENTAS '!U39 -> 1
G11: 4 | H11: SERVICIO AL CIUDADANO | I11: ='ATENCIÒN AL CIUDADANO'!U26 -> 0.91666667
G12: 5 | H12: TRANSPARENCIA Y ACCESO A LA INFORMACIÓN PÚBLICA | I12: ='TRANSP. Y ACCESO A LA INFOR.'!S24 -> 0.99802632
G13: 6 | H13: INICIATIVAS ADICIONALES | I13: ='INICIATIVAS ADICIONALES '!S8 -> 1
G14: TOTAL | I14: =SUM(I8:I13)/6 -> 0.9843594

Sheet Tabla de Valoraciòn
E2: Tabla 4 Criterios para definir el nivel de probabilidad
F4: Frecuencia de la Actividad | G4: Probabilidad
E5: Muy Baja | F5: La actividad que conlleva el riesgo se ejecuta como máximos 2 veces por año | G5: 0.2
E6: Baja | F6: Baja La actividad que con lleva el riesgo se ejecuta de 3 a 24 veces por año | G6: 0.4
E7: Media | F7: La actividad que conlleva el riesgo se ejecuta de 24 a 500 veces por año | G7: 0.6
E8: Alta | F8: La actividad que conlleva el riesgo se ejecuta mínimo 500 veces al año y máximo 5000 veces por año | G8: 0.8
E9: Muy Alta | F9: La actividad que conlleva el riesgo se ejecuta más de 5000 veces por año | G9: 1
E12: Tabla 5 Criterios para definir el nivel de impacto
F14: Afectación Económica | G14: Reputacional
E15: Leve 20% | F15: Afectación menor a 10 SMLMV . | G15: El riesgo afecta la imagen de algún área de la organización.
E16: Menor 40% | F16: Entre 10 y 50 SMLMV | G16: El riesgo afecta la imagen de la entidad internamente,de conocimiento general nivel interno,de junta directiva y accionistas y/o de proveedores
E17: Moderado 60% | F17: Entre 50 y 100 SMLMV | G17: El riesgo afecta la imagen de la entidad con algunos usuarios de relevancia frente al logro de los objetivos.
E18: Mayor 80% | F18: Entre 100 y 500 SMLMV | G18: El riesgo afecta la imagen de la entidad con efecto publicitario sostenido a nivelde sector administrativo, nivel departamental o municipal
E19: Catastrófico 100% | F19: Mayor a 500 SMLMV | G19: El riesgo afecta la imagen de la entidad a nivel nacional, con efecto publicitario sostenido a nivel país
E21: Matriz de Calor (Niveles de severidad del riesgo )

Sheet RACIONALIZACION DE TRAMITES 
A1: PLAN ANTICORRUPCIÓN Y DE ATENCIÓN AL CIUDADANO 2023 Instituto Distrital de Deporte y Recreación -IDER
A2: 2. COMPONENTE: RACIONALIZACIÓN DE TRAMITES | G2: SEGUIMIENTO
A3: No | B3: ACTIVIDAD | C3: META O PRODUCTO | D3: RESPONSABLE | E3: FECHA PROGRAMADA | G3: % de avance (Ene - Mar) 2023 | H3: % Acumulado (Ene - Mar)2023 | I3: Observaciones | J3: % de avance (Abril-Jun) 2023 | K3: % Acumulado (Ene- Jun)2023 | L3: Observaciones | M3: % de avance (Jul-Sept) 2023 | N3: % Acumulado (Ene- Sept 2023) | O3: Observaciones | P3: % de avance (Oct-Dic) 2023 | Q3: % Acumulado (Ene- Dic 2023) | R3: Observaciones 2023
E4: FECHA INICIAL | F4: FECHA FINAL
